| Back to Multiple platform build/check report for BioC 3.8 |
|
This page was generated on 2019-04-13 11:27:05 -0400 (Sat, 13 Apr 2019).
| Package 148/1649 | Hostname | OS / Arch | INSTALL | BUILD | CHECK | BUILD BIN | ||||||
| BiocWorkflowTools 1.8.0 Mike Smith
| malbec1 | Linux (Ubuntu 16.04.6 LTS) / x86_64 | OK | OK | WARNINGS | |||||||
| tokay1 | Windows Server 2012 R2 Standard / x64 | OK | OK | WARNINGS | [ OK ] | |||||||
| merida1 | OS X 10.11.6 El Capitan / x86_64 | OK | OK | WARNINGS | OK |
| Package: BiocWorkflowTools |
| Version: 1.8.0 |
| Command: rm -rf BiocWorkflowTools.buildbin-libdir && mkdir BiocWorkflowTools.buildbin-libdir && C:\Users\biocbuild\bbs-3.8-bioc\R\bin\R.exe CMD INSTALL --merge-multiarch --build --library=BiocWorkflowTools.buildbin-libdir BiocWorkflowTools_1.8.0.tar.gz |
| StartedAt: 2019-04-13 06:57:54 -0400 (Sat, 13 Apr 2019) |
| EndedAt: 2019-04-13 06:58:22 -0400 (Sat, 13 Apr 2019) |
| EllapsedTime: 27.4 seconds |
| RetCode: 0 |
| Status: OK |
| PackageFile: BiocWorkflowTools_1.8.0.zip |
| PackageFileSize: 706.5 KiB |
##############################################################################
##############################################################################
###
### Running command:
###
### rm -rf BiocWorkflowTools.buildbin-libdir && mkdir BiocWorkflowTools.buildbin-libdir && C:\Users\biocbuild\bbs-3.8-bioc\R\bin\R.exe CMD INSTALL --merge-multiarch --build --library=BiocWorkflowTools.buildbin-libdir BiocWorkflowTools_1.8.0.tar.gz
###
##############################################################################
##############################################################################
install for i386
* installing *source* package 'BiocWorkflowTools' ...
** R
** inst
** byte-compile and prepare package for lazy loading
** help
*** installing help indices
converting help for package 'BiocWorkflowTools'
finding HTML links ... done
createBiocWorkflow html
finding level-2 HTML links ... done
f1000_article html
markdownToLatex html
uploadToOverleaf html
** building package indices
** installing vignettes
** testing if installed package can be loaded
In R CMD INSTALL
install for x64
* installing *source* package 'BiocWorkflowTools' ...
** testing if installed package can be loaded
* MD5 sums
packaged installation of 'BiocWorkflowTools' as BiocWorkflowTools_1.8.0.zip
* DONE (BiocWorkflowTools)
In R CMD INSTALL
In R CMD INSTALL