| Back to Multiple platform build/check report for BioC 3.8 | 
  | 
This page was generated on 2019-04-13 11:20:00 -0400 (Sat, 13 Apr 2019).
| Package 152/1649 | Hostname | OS / Arch | INSTALL | BUILD | CHECK | BUILD BIN | ||||||
| BioMVCClass 1.50.0 Elizabeth Whalen 
  | malbec1 | Linux (Ubuntu 16.04.6 LTS) / x86_64 | OK | OK | OK | |||||||
| tokay1 | Windows Server 2012 R2 Standard / x64 | [ OK ] | OK | OK | OK | |||||||
| merida1 | OS X 10.11.6 El Capitan / x86_64 | OK | OK | OK | OK | 
| Package: BioMVCClass | 
| Version: 1.50.0 | 
| Command: C:\cygwin\bin\curl.exe -O https://malbec1.bioconductor.org/BBS/3.8/bioc/src/contrib/BioMVCClass_1.50.0.tar.gz && rm -rf BioMVCClass.buildbin-libdir && mkdir BioMVCClass.buildbin-libdir && C:\Users\biocbuild\bbs-3.8-bioc\R\bin\R.exe CMD INSTALL --merge-multiarch --build --library=BioMVCClass.buildbin-libdir BioMVCClass_1.50.0.tar.gz && C:\Users\biocbuild\bbs-3.8-bioc\R\bin\R.exe CMD INSTALL BioMVCClass_1.50.0.zip && rm BioMVCClass_1.50.0.tar.gz BioMVCClass_1.50.0.zip | 
| StartedAt: 2019-04-12 19:29:05 -0400 (Fri, 12 Apr 2019) | 
| EndedAt: 2019-04-12 19:29:29 -0400 (Fri, 12 Apr 2019) | 
| EllapsedTime: 23.7 seconds | 
| RetCode: 0 | 
| Status: OK | 
##############################################################################
##############################################################################
###
### Running command:
###
###   C:\cygwin\bin\curl.exe -O https://malbec1.bioconductor.org/BBS/3.8/bioc/src/contrib/BioMVCClass_1.50.0.tar.gz && rm -rf BioMVCClass.buildbin-libdir && mkdir BioMVCClass.buildbin-libdir && C:\Users\biocbuild\bbs-3.8-bioc\R\bin\R.exe CMD INSTALL --merge-multiarch --build --library=BioMVCClass.buildbin-libdir BioMVCClass_1.50.0.tar.gz && C:\Users\biocbuild\bbs-3.8-bioc\R\bin\R.exe CMD INSTALL BioMVCClass_1.50.0.zip && rm BioMVCClass_1.50.0.tar.gz BioMVCClass_1.50.0.zip
###
##############################################################################
##############################################################################
  % Total    % Received % Xferd  Average Speed   Time    Time     Time  Current
                                 Dload  Upload   Total   Spent    Left  Speed
  0     0    0     0    0     0      0      0 --:--:-- --:--:-- --:--:--     0
100 41571  100 41571    0     0  1019k      0 --:--:-- --:--:-- --:--:-- 1127k
install for i386
* installing *source* package 'BioMVCClass' ...
** R
** byte-compile and prepare package for lazy loading
** help
*** installing help indices
  converting help for package 'BioMVCClass'
    finding HTML links ... done
    GSE-class                               html  
    exprModel-class                         html  
    graphModel-class                        html  
    graphView-class                         html  
    gseModel-class                          html  
    heatmapView-class                       html  
** building package indices
** installing vignettes
** testing if installed package can be loaded
In R CMD INSTALL
install for x64
* installing *source* package 'BioMVCClass' ...
** testing if installed package can be loaded
* MD5 sums
packaged installation of 'BioMVCClass' as BioMVCClass_1.50.0.zip
* DONE (BioMVCClass)
In R CMD INSTALL
In R CMD INSTALL
* installing to library 'C:/Users/biocbuild/bbs-3.8-bioc/R/library'
package 'BioMVCClass' successfully unpacked and MD5 sums checked
In R CMD INSTALL