| Back to Multiple platform build/check report for BioC 3.8 |
|
This page was generated on 2019-04-16 12:00:29 -0400 (Tue, 16 Apr 2019).
| Package 141/1649 | Hostname | OS / Arch | INSTALL | BUILD | CHECK | BUILD BIN | ||||||
| BioCor 1.6.1 LluĂs Revilla Sancho
| malbec1 | Linux (Ubuntu 16.04.6 LTS) / x86_64 | OK | OK | OK | |||||||
| merida1 | OS X 10.11.6 El Capitan / x86_64 | OK | OK | OK | [ OK ] |
| Package: BioCor |
| Version: 1.6.1 |
| Command: rm -rf BioCor.buildbin-libdir && mkdir BioCor.buildbin-libdir && /Users/biocbuild/BBS/utils/build-universal.sh BioCor_1.6.1.tar.gz /Library/Frameworks/R.framework/Versions/Current/Resources/bin/R BioCor.buildbin-libdir |
| StartedAt: 2019-04-16 03:44:46 -0400 (Tue, 16 Apr 2019) |
| EndedAt: 2019-04-16 03:45:40 -0400 (Tue, 16 Apr 2019) |
| EllapsedTime: 54.2 seconds |
| RetCode: 0 |
| Status: OK |
| PackageFile: BioCor_1.6.1.tgz |
| PackageFileSize: 1.88 MiB |
############################################################################## ############################################################################## ### ### Running command: ### ### rm -rf BioCor.buildbin-libdir && mkdir BioCor.buildbin-libdir && /Users/biocbuild/BBS/utils/build-universal.sh BioCor_1.6.1.tar.gz /Library/Frameworks/R.framework/Versions/Current/Resources/bin/R BioCor.buildbin-libdir ### ############################################################################## ############################################################################## >>>>>>> >>>>>>> INSTALLATION WITH 'R CMD INSTALL --preclean --no-multiarch --library=BioCor.buildbin-libdir BioCor_1.6.1.tar.gz' >>>>>>> * installing *source* package ‘BioCor’ ... ** R ** inst ** byte-compile and prepare package for lazy loading Creating a generic function from function ‘clusterGeneSim’ in package ‘BioCor’ Creating a generic function from function ‘clusterSim’ in package ‘BioCor’ Creating a generic function from function ‘geneSim’ in package ‘BioCor’ Creating a generic function from function ‘mclusterGeneSim’ in package ‘BioCor’ Creating a generic function from function ‘mclusterSim’ in package ‘BioCor’ Creating a generic function from function ‘mgeneSim’ in package ‘BioCor’ Creating a generic function from function ‘mpathSim’ in package ‘BioCor’ Creating a generic function from function ‘pathSim’ in package ‘BioCor’ ** help *** installing help indices ** building package indices ** installing vignettes ** testing if installed package can be loaded * DONE (BioCor)