Back to Multiple platform build/check report for BioC 3.8 |
|
This page was generated on 2019-04-13 11:26:38 -0400 (Sat, 13 Apr 2019).
Package 120/1649 | Hostname | OS / Arch | INSTALL | BUILD | CHECK | BUILD BIN | ||||||
BgeeDB 2.8.0 Julien Wollbrett
| malbec1 | Linux (Ubuntu 16.04.6 LTS) / x86_64 | OK | OK | OK | ![]() | ||||||
tokay1 | Windows Server 2012 R2 Standard / x64 | OK | OK | OK | [ OK ] | ![]() | ||||||
merida1 | OS X 10.11.6 El Capitan / x86_64 | OK | OK | OK | OK | ![]() |
Package: BgeeDB |
Version: 2.8.0 |
Command: rm -rf BgeeDB.buildbin-libdir && mkdir BgeeDB.buildbin-libdir && C:\Users\biocbuild\bbs-3.8-bioc\R\bin\R.exe CMD INSTALL --merge-multiarch --build --library=BgeeDB.buildbin-libdir BgeeDB_2.8.0.tar.gz |
StartedAt: 2019-04-13 06:56:42 -0400 (Sat, 13 Apr 2019) |
EndedAt: 2019-04-13 06:57:04 -0400 (Sat, 13 Apr 2019) |
EllapsedTime: 22.7 seconds |
RetCode: 0 |
Status: OK |
PackageFile: BgeeDB_2.8.0.zip |
PackageFileSize: 318.9 KiB |
############################################################################## ############################################################################## ### ### Running command: ### ### rm -rf BgeeDB.buildbin-libdir && mkdir BgeeDB.buildbin-libdir && C:\Users\biocbuild\bbs-3.8-bioc\R\bin\R.exe CMD INSTALL --merge-multiarch --build --library=BgeeDB.buildbin-libdir BgeeDB_2.8.0.tar.gz ### ############################################################################## ############################################################################## install for i386 * installing *source* package 'BgeeDB' ... ** R ** data ** inst ** byte-compile and prepare package for lazy loading groupGOTerms: GOBPTerm, GOMFTerm, GOCCTerm environments built. ** help *** installing help indices converting help for package 'BgeeDB' finding HTML links ... done Bgee-class html formatData html geneList html getAnnotation html getData html listBgeeRelease html listBgeeSpecies html loadTopAnatData html makeTable html topAnat html ** building package indices ** installing vignettes ** testing if installed package can be loaded groupGOTerms: GOBPTerm, GOMFTerm, GOCCTerm environments built. In R CMD INSTALL install for x64 * installing *source* package 'BgeeDB' ... ** testing if installed package can be loaded groupGOTerms: GOBPTerm, GOMFTerm, GOCCTerm environments built. * MD5 sums packaged installation of 'BgeeDB' as BgeeDB_2.8.0.zip * DONE (BgeeDB) In R CMD INSTALL In R CMD INSTALL