| Back to Multiple platform build/check report for BioC 3.8 | 
 | 
This page was generated on 2019-04-16 11:59:56 -0400 (Tue, 16 Apr 2019).
| Package 89/1649 | Hostname | OS / Arch | INSTALL | BUILD | CHECK | BUILD BIN | ||||||
| BaalChIP 1.8.0 Ines de Santiago 
 | malbec1 | Linux (Ubuntu 16.04.6 LTS) / x86_64 | OK | OK | WARNINGS |  | ||||||
| merida1 | OS X 10.11.6 El Capitan / x86_64 | OK | OK | WARNINGS | [ OK ] |  | 
| Package: BaalChIP | 
| Version: 1.8.0 | 
| Command: rm -rf BaalChIP.buildbin-libdir && mkdir BaalChIP.buildbin-libdir && /Users/biocbuild/BBS/utils/build-universal.sh BaalChIP_1.8.0.tar.gz /Library/Frameworks/R.framework/Versions/Current/Resources/bin/R BaalChIP.buildbin-libdir | 
| StartedAt: 2019-04-16 03:42:11 -0400 (Tue, 16 Apr 2019) | 
| EndedAt: 2019-04-16 03:43:53 -0400 (Tue, 16 Apr 2019) | 
| EllapsedTime: 102.5 seconds | 
| RetCode: 0 | 
| Status: OK | 
| PackageFile: BaalChIP_1.8.0.tgz | 
| PackageFileSize: 107.3 MiB | 
############################################################################## ############################################################################## ### ### Running command: ### ### rm -rf BaalChIP.buildbin-libdir && mkdir BaalChIP.buildbin-libdir && /Users/biocbuild/BBS/utils/build-universal.sh BaalChIP_1.8.0.tar.gz /Library/Frameworks/R.framework/Versions/Current/Resources/bin/R BaalChIP.buildbin-libdir ### ############################################################################## ############################################################################## >>>>>>> >>>>>>> INSTALLATION WITH 'R CMD INSTALL --preclean --no-multiarch --library=BaalChIP.buildbin-libdir BaalChIP_1.8.0.tar.gz' >>>>>>> * installing *source* package ‘BaalChIP’ ... ** R ** data *** moving datasets to lazyload DB ** inst ** byte-compile and prepare package for lazy loading ** help *** installing help indices ** building package indices ** installing vignettes ** testing if installed package can be loaded * DONE (BaalChIP)