| Back to Multiple platform build/check report for BioC 3.8 | 
  | 
This page was generated on 2019-04-13 11:25:49 -0400 (Sat, 13 Apr 2019).
| Package 108/1649 | Hostname | OS / Arch | INSTALL | BUILD | CHECK | BUILD BIN | ||||||
| BBCAnalyzer 1.12.0 Sarah Sandmann 
  | malbec1 | Linux (Ubuntu 16.04.6 LTS) / x86_64 | OK | OK | OK | |||||||
| tokay1 | Windows Server 2012 R2 Standard / x64 | OK | OK | WARNINGS | [ OK ] | |||||||
| merida1 | OS X 10.11.6 El Capitan / x86_64 | OK | OK | OK | OK | 
| Package: BBCAnalyzer | 
| Version: 1.12.0 | 
| Command: rm -rf BBCAnalyzer.buildbin-libdir && mkdir BBCAnalyzer.buildbin-libdir && C:\Users\biocbuild\bbs-3.8-bioc\R\bin\R.exe CMD INSTALL --merge-multiarch --build --library=BBCAnalyzer.buildbin-libdir BBCAnalyzer_1.12.0.tar.gz | 
| StartedAt: 2019-04-13 06:56:08 -0400 (Sat, 13 Apr 2019) | 
| EndedAt: 2019-04-13 06:56:55 -0400 (Sat, 13 Apr 2019) | 
| EllapsedTime: 46.8 seconds | 
| RetCode: 0 | 
| Status: OK | 
| PackageFile: BBCAnalyzer_1.12.0.zip | 
| PackageFileSize: 1.992 MiB | 
##############################################################################
##############################################################################
###
### Running command:
###
###   rm -rf BBCAnalyzer.buildbin-libdir && mkdir BBCAnalyzer.buildbin-libdir && C:\Users\biocbuild\bbs-3.8-bioc\R\bin\R.exe CMD INSTALL --merge-multiarch --build --library=BBCAnalyzer.buildbin-libdir BBCAnalyzer_1.12.0.tar.gz
###
##############################################################################
##############################################################################
install for i386
* installing *source* package 'BBCAnalyzer' ...
** R
** inst
** byte-compile and prepare package for lazy loading
Warning: replacing previous import 'grDevices::windows' by 'GenomicRanges::windows' when loading 'BBCAnalyzer'
** help
*** installing help indices
  converting help for package 'BBCAnalyzer'
    finding HTML links ... done
    BBCAnalyzer-package                     html  
    analyzeBases                            html  
    analyzeBasesPlotOnly                    html  
** building package indices
** installing vignettes
** testing if installed package can be loaded
Warning: replacing previous import 'grDevices::windows' by 'GenomicRanges::windows' when loading 'BBCAnalyzer'
In R CMD INSTALL
install for x64
* installing *source* package 'BBCAnalyzer' ...
** testing if installed package can be loaded
Warning: replacing previous import 'grDevices::windows' by 'GenomicRanges::windows' when loading 'BBCAnalyzer'
* MD5 sums
packaged installation of 'BBCAnalyzer' as BBCAnalyzer_1.12.0.zip
* DONE (BBCAnalyzer)
In R CMD INSTALL
In R CMD INSTALL