| Back to Multiple platform build/check report for BioC 3.8 |
|
This page was generated on 2019-04-13 11:20:49 -0400 (Sat, 13 Apr 2019).
| Package 69/1649 | Hostname | OS / Arch | INSTALL | BUILD | CHECK | BUILD BIN | ||||||
| ArrayExpress 1.42.0 Suhaib Mohammed
| malbec1 | Linux (Ubuntu 16.04.6 LTS) / x86_64 | OK | OK | OK | |||||||
| tokay1 | Windows Server 2012 R2 Standard / x64 | [ OK ] | OK | OK | OK | |||||||
| merida1 | OS X 10.11.6 El Capitan / x86_64 | OK | OK | OK | OK |
| Package: ArrayExpress |
| Version: 1.42.0 |
| Command: C:\cygwin\bin\curl.exe -O https://malbec1.bioconductor.org/BBS/3.8/bioc/src/contrib/ArrayExpress_1.42.0.tar.gz && rm -rf ArrayExpress.buildbin-libdir && mkdir ArrayExpress.buildbin-libdir && C:\Users\biocbuild\bbs-3.8-bioc\R\bin\R.exe CMD INSTALL --merge-multiarch --build --library=ArrayExpress.buildbin-libdir ArrayExpress_1.42.0.tar.gz && C:\Users\biocbuild\bbs-3.8-bioc\R\bin\R.exe CMD INSTALL ArrayExpress_1.42.0.zip && rm ArrayExpress_1.42.0.tar.gz ArrayExpress_1.42.0.zip |
| StartedAt: 2019-04-12 19:50:21 -0400 (Fri, 12 Apr 2019) |
| EndedAt: 2019-04-12 19:51:05 -0400 (Fri, 12 Apr 2019) |
| EllapsedTime: 44.1 seconds |
| RetCode: 0 |
| Status: OK |
##############################################################################
##############################################################################
###
### Running command:
###
### C:\cygwin\bin\curl.exe -O https://malbec1.bioconductor.org/BBS/3.8/bioc/src/contrib/ArrayExpress_1.42.0.tar.gz && rm -rf ArrayExpress.buildbin-libdir && mkdir ArrayExpress.buildbin-libdir && C:\Users\biocbuild\bbs-3.8-bioc\R\bin\R.exe CMD INSTALL --merge-multiarch --build --library=ArrayExpress.buildbin-libdir ArrayExpress_1.42.0.tar.gz && C:\Users\biocbuild\bbs-3.8-bioc\R\bin\R.exe CMD INSTALL ArrayExpress_1.42.0.zip && rm ArrayExpress_1.42.0.tar.gz ArrayExpress_1.42.0.zip
###
##############################################################################
##############################################################################
% Total % Received % Xferd Average Speed Time Time Time Current
Dload Upload Total Spent Left Speed
0 0 0 0 0 0 0 0 --:--:-- --:--:-- --:--:-- 0
100 41613 100 41613 0 0 990k 0 --:--:-- --:--:-- --:--:-- 1069k
install for i386
* installing *source* package 'ArrayExpress' ...
** R
** inst
** byte-compile and prepare package for lazy loading
** help
*** installing help indices
converting help for package 'ArrayExpress'
finding HTML links ... done
ArrayExpress html
ae2bioc html
extract.zip html
getAE html
getcolproc html
getcolraw html
procset html
queryAE html
** building package indices
** installing vignettes
** testing if installed package can be loaded
In R CMD INSTALL
install for x64
* installing *source* package 'ArrayExpress' ...
** testing if installed package can be loaded
* MD5 sums
packaged installation of 'ArrayExpress' as ArrayExpress_1.42.0.zip
* DONE (ArrayExpress)
In R CMD INSTALL
In R CMD INSTALL
* installing to library 'C:/Users/biocbuild/bbs-3.8-bioc/R/library'
package 'ArrayExpress' successfully unpacked and MD5 sums checked
In R CMD INSTALL