Back to Multiple platform build/check report for BioC 3.8 |
|
This page was generated on 2019-04-13 11:29:44 -0400 (Sat, 13 Apr 2019).
Package 18/1649 | Hostname | OS / Arch | INSTALL | BUILD | CHECK | BUILD BIN | ||||||
AffiXcan 1.0.0 Alessandro Lussana
| malbec1 | Linux (Ubuntu 16.04.6 LTS) / x86_64 | OK | OK | OK | ![]() | ||||||
tokay1 | Windows Server 2012 R2 Standard / x64 | OK | OK | OK | [ OK ] | ![]() | ||||||
merida1 | OS X 10.11.6 El Capitan / x86_64 | OK | OK | OK | OK | ![]() |
Package: AffiXcan |
Version: 1.0.0 |
Command: rm -rf AffiXcan.buildbin-libdir && mkdir AffiXcan.buildbin-libdir && C:\Users\biocbuild\bbs-3.8-bioc\R\bin\R.exe CMD INSTALL --merge-multiarch --build --library=AffiXcan.buildbin-libdir AffiXcan_1.0.0.tar.gz |
StartedAt: 2019-04-13 06:52:47 -0400 (Sat, 13 Apr 2019) |
EndedAt: 2019-04-13 06:53:08 -0400 (Sat, 13 Apr 2019) |
EllapsedTime: 21.3 seconds |
RetCode: 0 |
Status: OK |
PackageFile: AffiXcan_1.0.0.zip |
PackageFileSize: 2.029 MiB |
############################################################################## ############################################################################## ### ### Running command: ### ### rm -rf AffiXcan.buildbin-libdir && mkdir AffiXcan.buildbin-libdir && C:\Users\biocbuild\bbs-3.8-bioc\R\bin\R.exe CMD INSTALL --merge-multiarch --build --library=AffiXcan.buildbin-libdir AffiXcan_1.0.0.tar.gz ### ############################################################################## ############################################################################## install for i386 * installing *source* package 'AffiXcan' ... ** R ** data ** inst ** byte-compile and prepare package for lazy loading ** help *** installing help indices converting help for package 'AffiXcan' finding HTML links ... done AffiXcan-package html affiXcanBs html affiXcanGReX html affiXcanImpute html affiXcanPca html affiXcanPcs html affiXcanTrain html assoc2list html computeBs html computeExpr html computePca html computePcs html exprMatrix html overlookRegions html regionAssoc html trainingCovariates html ** building package indices ** installing vignettes ** testing if installed package can be loaded In R CMD INSTALL install for x64 * installing *source* package 'AffiXcan' ... ** testing if installed package can be loaded * MD5 sums packaged installation of 'AffiXcan' as AffiXcan_1.0.0.zip * DONE (AffiXcan) In R CMD INSTALL In R CMD INSTALL