| Back to Multiple platform build/check report for BioC 3.8 | 
  | 
This page was generated on 2019-04-13 11:27:50 -0400 (Sat, 13 Apr 2019).
| Package 86/1649 | Hostname | OS / Arch | INSTALL | BUILD | CHECK | BUILD BIN | ||||||
| ATACseqQC 1.6.4 Jianhong Ou 
  | malbec1 | Linux (Ubuntu 16.04.6 LTS) / x86_64 | OK | OK | OK | |||||||
| tokay1 | Windows Server 2012 R2 Standard / x64 | OK | OK | OK | [ OK ] | |||||||
| merida1 | OS X 10.11.6 El Capitan / x86_64 | OK | ERROR | skipped | skipped | 
| Package: ATACseqQC | 
| Version: 1.6.4 | 
| Command: rm -rf ATACseqQC.buildbin-libdir && mkdir ATACseqQC.buildbin-libdir && C:\Users\biocbuild\bbs-3.8-bioc\R\bin\R.exe CMD INSTALL --merge-multiarch --build --library=ATACseqQC.buildbin-libdir ATACseqQC_1.6.4.tar.gz | 
| StartedAt: 2019-04-13 06:55:03 -0400 (Sat, 13 Apr 2019) | 
| EndedAt: 2019-04-13 06:56:04 -0400 (Sat, 13 Apr 2019) | 
| EllapsedTime: 60.9 seconds | 
| RetCode: 0 | 
| Status: OK | 
| PackageFile: ATACseqQC_1.6.4.zip | 
| PackageFileSize: 11.77 MiB | 
##############################################################################
##############################################################################
###
### Running command:
###
###   rm -rf ATACseqQC.buildbin-libdir && mkdir ATACseqQC.buildbin-libdir && C:\Users\biocbuild\bbs-3.8-bioc\R\bin\R.exe CMD INSTALL --merge-multiarch --build --library=ATACseqQC.buildbin-libdir ATACseqQC_1.6.4.tar.gz
###
##############################################################################
##############################################################################
install for i386
* installing *source* package 'ATACseqQC' ...
** R
** inst
** byte-compile and prepare package for lazy loading
** help
*** installing help indices
  converting help for package 'ATACseqQC'
    finding HTML links ... done
    ATACseqQC-package                       html  
    NFRscore                                html  
    PTscore                                 html  
    TSSEscore                               html  
    bamQC                                   html  
    distanceDyad                            html  
    enrichedFragments                       html  
    estimateLibComplexity                   html  
    factorFootprints                        html  
    footprintsScanner                       html  
    fragSizeDist                            html  
    peakdet                                 html  
    plotCorrelation                         html  
    plotFootprints                          html  
    prepareBindingSitesList                 html  
    pwmscores                               html  
    readBamFile                             html  
    finding level-2 HTML links ... done
    readsDupFreq                            html  
    saturationPlot                          html  
    shiftGAlignmentsList                    html  
    shiftReads                              html  
    splitBam                                html  
    splitGAlignmentsByCut                   html  
    vPlot                                   html  
    writeListOfGAlignments                  html  
** building package indices
** installing vignettes
** testing if installed package can be loaded
In R CMD INSTALL
install for x64
* installing *source* package 'ATACseqQC' ...
** testing if installed package can be loaded
* MD5 sums
packaged installation of 'ATACseqQC' as ATACseqQC_1.6.4.zip
* DONE (ATACseqQC)
In R CMD INSTALL
In R CMD INSTALL