| Back to Multiple platform build/check report for BioC 3.7 experimental data |
This page was generated on 2018-10-16 14:18:43 -0400 (Tue, 16 Oct 2018).
| Package 342/342 | Hostname | OS / Arch | INSTALL | BUILD | CHECK | BUILD BIN | ||||||
| zebrafishRNASeq 0.114.0 Davide Risso
| malbec2 | Linux (Ubuntu 16.04.1 LTS) / x86_64 | OK | [ OK ] | OK |
| Package: zebrafishRNASeq |
| Version: 0.114.0 |
| Command: /home/biocbuild/bbs-3.7-bioc/R/bin/R CMD build --keep-empty-dirs --no-resave-data zebrafishRNASeq |
| StartedAt: 2018-10-16 09:44:09 -0400 (Tue, 16 Oct 2018) |
| EndedAt: 2018-10-16 09:44:23 -0400 (Tue, 16 Oct 2018) |
| EllapsedTime: 14.3 seconds |
| RetCode: 0 |
| Status: OK |
| PackageFile: zebrafishRNASeq_0.114.0.tar.gz |
| PackageFileSize: 353.7 KiB |
############################################################################## ############################################################################## ### ### Running command: ### ### /home/biocbuild/bbs-3.7-bioc/R/bin/R CMD build --keep-empty-dirs --no-resave-data zebrafishRNASeq ### ############################################################################## ############################################################################## * checking for file ‘zebrafishRNASeq/DESCRIPTION’ ... OK * preparing ‘zebrafishRNASeq’: * checking DESCRIPTION meta-information ... OK * installing the package to build vignettes * creating vignettes ... OK * checking for LF line-endings in source and make files and shell scripts * checking for empty or unneeded directories * looking to see if a ‘data/datalist’ file should be added * building ‘zebrafishRNASeq_0.114.0.tar.gz’