| Back to Multiple platform build/check report for BioC 3.7 experimental data |
This page was generated on 2018-10-16 14:19:39 -0400 (Tue, 16 Oct 2018).
| Package 290/342 | Hostname | OS / Arch | INSTALL | BUILD | CHECK | BUILD BIN | ||||||
| sampleClassifierData 1.4.0 Khadija El Amrani
| malbec2 | Linux (Ubuntu 16.04.1 LTS) / x86_64 | [ OK ] | OK | OK |
| Package: sampleClassifierData |
| Version: 1.4.0 |
| Command: /home/biocbuild/bbs-3.7-bioc/R/bin/R CMD INSTALL sampleClassifierData |
| StartedAt: 2018-10-16 09:05:24 -0400 (Tue, 16 Oct 2018) |
| EndedAt: 2018-10-16 09:05:37 -0400 (Tue, 16 Oct 2018) |
| EllapsedTime: 13.5 seconds |
| RetCode: 0 |
| Status: OK |
############################################################################## ############################################################################## ### ### Running command: ### ### /home/biocbuild/bbs-3.7-bioc/R/bin/R CMD INSTALL sampleClassifierData ### ############################################################################## ############################################################################## * installing to library ‘/home/biocbuild/bbs-3.7-bioc/R/library’ * installing *source* package ‘sampleClassifierData’ ... ** data ** help *** installing help indices ** building package indices ** installing vignettes ** testing if installed package can be loaded * DONE (sampleClassifierData)