| Back to Multiple platform build/check report for BioC 3.7 experimental data |
This page was generated on 2018-10-16 14:19:23 -0400 (Tue, 16 Oct 2018).
| Package 250/342 | Hostname | OS / Arch | INSTALL | BUILD | CHECK | BUILD BIN | ||||||
| prostateCancerTaylor 1.8.0 Mark Dunning
| malbec2 | Linux (Ubuntu 16.04.1 LTS) / x86_64 | [ OK ] | OK | OK |
| Package: prostateCancerTaylor |
| Version: 1.8.0 |
| Command: /home/biocbuild/bbs-3.7-bioc/R/bin/R CMD INSTALL prostateCancerTaylor |
| StartedAt: 2018-10-16 09:04:27 -0400 (Tue, 16 Oct 2018) |
| EndedAt: 2018-10-16 09:04:48 -0400 (Tue, 16 Oct 2018) |
| EllapsedTime: 20.6 seconds |
| RetCode: 0 |
| Status: OK |
############################################################################## ############################################################################## ### ### Running command: ### ### /home/biocbuild/bbs-3.7-bioc/R/bin/R CMD INSTALL prostateCancerTaylor ### ############################################################################## ############################################################################## * installing to library ‘/home/biocbuild/bbs-3.7-bioc/R/library’ * installing *source* package ‘prostateCancerTaylor’ ... ** data *** moving datasets to lazyload DB ** inst ** help *** installing help indices ** building package indices ** installing vignettes ** testing if installed package can be loaded * DONE (prostateCancerTaylor)