| Back to Multiple platform build/check report for BioC 3.7 experimental data |
This page was generated on 2018-10-16 14:17:54 -0400 (Tue, 16 Oct 2018).
| Package 234/342 | Hostname | OS / Arch | INSTALL | BUILD | CHECK | BUILD BIN | ||||||
| pcaGoPromoter.Mm.mm9 1.16.0 Morten Hansen
| malbec2 | Linux (Ubuntu 16.04.1 LTS) / x86_64 | OK | [ OK ] | OK |
| Package: pcaGoPromoter.Mm.mm9 |
| Version: 1.16.0 |
| Command: /home/biocbuild/bbs-3.7-bioc/R/bin/R CMD build --keep-empty-dirs --no-resave-data pcaGoPromoter.Mm.mm9 |
| StartedAt: 2018-10-16 09:26:38 -0400 (Tue, 16 Oct 2018) |
| EndedAt: 2018-10-16 09:26:44 -0400 (Tue, 16 Oct 2018) |
| EllapsedTime: 6.4 seconds |
| RetCode: 0 |
| Status: OK |
| PackageFile: pcaGoPromoter.Mm.mm9_1.16.0.tar.gz |
| PackageFileSize: 66.57 MiB |
############################################################################## ############################################################################## ### ### Running command: ### ### /home/biocbuild/bbs-3.7-bioc/R/bin/R CMD build --keep-empty-dirs --no-resave-data pcaGoPromoter.Mm.mm9 ### ############################################################################## ############################################################################## * checking for file ‘pcaGoPromoter.Mm.mm9/DESCRIPTION’ ... OK * preparing ‘pcaGoPromoter.Mm.mm9’: * checking DESCRIPTION meta-information ... OK * checking for LF line-endings in source and make files and shell scripts * checking for empty or unneeded directories * looking to see if a ‘data/datalist’ file should be added * building ‘pcaGoPromoter.Mm.mm9_1.16.0.tar.gz’