| Back to Multiple platform build/check report for BioC 3.7 experimental data |
This page was generated on 2018-10-16 14:17:53 -0400 (Tue, 16 Oct 2018).
| Package 233/342 | Hostname | OS / Arch | INSTALL | BUILD | CHECK | BUILD BIN | ||||||
| pcaGoPromoter.Hs.hg19 1.16.0 Morten Hansen
| malbec2 | Linux (Ubuntu 16.04.1 LTS) / x86_64 | OK | OK | [ OK ] |
| Package: pcaGoPromoter.Hs.hg19 |
| Version: 1.16.0 |
| Command: /home/biocbuild/bbs-3.7-bioc/R/bin/R CMD check --install=check:pcaGoPromoter.Hs.hg19.install-out.txt --library=/home/biocbuild/bbs-3.7-bioc/R/library --no-vignettes --timings pcaGoPromoter.Hs.hg19_1.16.0.tar.gz |
| StartedAt: 2018-10-16 11:15:38 -0400 (Tue, 16 Oct 2018) |
| EndedAt: 2018-10-16 11:17:08 -0400 (Tue, 16 Oct 2018) |
| EllapsedTime: 90.0 seconds |
| RetCode: 0 |
| Status: OK |
| CheckDir: pcaGoPromoter.Hs.hg19.Rcheck |
| Warnings: 0 |
##############################################################################
##############################################################################
###
### Running command:
###
### /home/biocbuild/bbs-3.7-bioc/R/bin/R CMD check --install=check:pcaGoPromoter.Hs.hg19.install-out.txt --library=/home/biocbuild/bbs-3.7-bioc/R/library --no-vignettes --timings pcaGoPromoter.Hs.hg19_1.16.0.tar.gz
###
##############################################################################
##############################################################################
* using log directory ‘/home/biocbuild/bbs-3.7-data-experiment/meat/pcaGoPromoter.Hs.hg19.Rcheck’
* using R version 3.5.1 Patched (2018-07-12 r74967)
* using platform: x86_64-pc-linux-gnu (64-bit)
* using session charset: UTF-8
* using option ‘--no-vignettes’
* checking for file ‘pcaGoPromoter.Hs.hg19/DESCRIPTION’ ... OK
* this is package ‘pcaGoPromoter.Hs.hg19’ version ‘1.16.0’
* checking package namespace information ... OK
* checking package dependencies ... OK
* checking if this is a source package ... OK
* checking if there is a namespace ... OK
* checking for hidden files and directories ... OK
* checking for portable file names ... OK
* checking for sufficient/correct file permissions ... OK
* checking whether package ‘pcaGoPromoter.Hs.hg19’ can be installed ... OK
* checking installed package size ... NOTE
installed size is 69.7Mb
sub-directories of 1Mb or more:
data 69.6Mb
* checking package directory ... OK
* checking DESCRIPTION meta-information ... NOTE
Malformed Description field: should contain one or more complete sentences.
* checking top-level files ... OK
* checking for left-over files ... OK
* checking index information ... OK
* checking package subdirectories ... OK
* checking whether the package can be loaded ... OK
* checking whether the package can be loaded with stated dependencies ... OK
* checking whether the package can be unloaded cleanly ... OK
* checking whether the namespace can be loaded with stated dependencies ... OK
* checking whether the namespace can be unloaded cleanly ... OK
* checking Rd files ... OK
* checking Rd metadata ... OK
* checking Rd cross-references ... OK
* checking for missing documentation entries ... OK
* checking for code/documentation mismatches ... OK
* checking Rd \usage sections ... OK
* checking Rd contents ... OK
* checking for unstated dependencies in examples ... OK
* checking contents of ‘data’ directory ... OK
* checking data for non-ASCII characters ... OK
* checking data for ASCII and uncompressed saves ... OK
* checking examples ... NONE
* checking PDF version of manual ... OK
* DONE
Status: 2 NOTEs
See
‘/home/biocbuild/bbs-3.7-data-experiment/meat/pcaGoPromoter.Hs.hg19.Rcheck/00check.log’
for details.
pcaGoPromoter.Hs.hg19.Rcheck/00install.out
############################################################################## ############################################################################## ### ### Running command: ### ### /home/biocbuild/bbs-3.7-bioc/R/bin/R CMD INSTALL pcaGoPromoter.Hs.hg19 ### ############################################################################## ############################################################################## * installing to library ‘/home/biocbuild/bbs-3.7-bioc/R/library’ * installing *source* package ‘pcaGoPromoter.Hs.hg19’ ... ** data ** help *** installing help indices ** building package indices ** testing if installed package can be loaded * DONE (pcaGoPromoter.Hs.hg19)