| Back to Multiple platform build/check report for BioC 3.7 experimental data |
This page was generated on 2018-10-16 14:17:39 -0400 (Tue, 16 Oct 2018).
| Package 228/342 | Hostname | OS / Arch | INSTALL | BUILD | CHECK | BUILD BIN | ||||||
| pasilla 1.8.0 Alejandro Reyes
| malbec2 | Linux (Ubuntu 16.04.1 LTS) / x86_64 | [ OK ] | OK | OK |
| Package: pasilla |
| Version: 1.8.0 |
| Command: /home/biocbuild/bbs-3.7-bioc/R/bin/R CMD INSTALL pasilla |
| StartedAt: 2018-10-16 08:57:47 -0400 (Tue, 16 Oct 2018) |
| EndedAt: 2018-10-16 08:58:52 -0400 (Tue, 16 Oct 2018) |
| EllapsedTime: 65.0 seconds |
| RetCode: 0 |
| Status: OK |
############################################################################## ############################################################################## ### ### Running command: ### ### /home/biocbuild/bbs-3.7-bioc/R/bin/R CMD INSTALL pasilla ### ############################################################################## ############################################################################## * installing to library ‘/home/biocbuild/bbs-3.7-bioc/R/library’ * installing *source* package ‘pasilla’ ... ** data ** inst ** help *** installing help indices ** building package indices ** installing vignettes ** testing if installed package can be loaded * DONE (pasilla)