| Back to Multiple platform build/check report for BioC 3.7 experimental data |
This page was generated on 2018-10-16 14:19:35 -0400 (Tue, 16 Oct 2018).
| Package 184/342 | Hostname | OS / Arch | INSTALL | BUILD | CHECK | BUILD BIN | ||||||
| lydata 1.6.0 Alex Pickering
| malbec2 | Linux (Ubuntu 16.04.1 LTS) / x86_64 | OK | OK | [ OK ] |
| Package: lydata |
| Version: 1.6.0 |
| Command: /home/biocbuild/bbs-3.7-bioc/R/bin/R CMD check --install=check:lydata.install-out.txt --library=/home/biocbuild/bbs-3.7-bioc/R/library --no-vignettes --timings lydata_1.6.0.tar.gz |
| StartedAt: 2018-10-16 11:07:35 -0400 (Tue, 16 Oct 2018) |
| EndedAt: 2018-10-16 11:07:57 -0400 (Tue, 16 Oct 2018) |
| EllapsedTime: 22.0 seconds |
| RetCode: 0 |
| Status: OK |
| CheckDir: lydata.Rcheck |
| Warnings: 0 |
##############################################################################
##############################################################################
###
### Running command:
###
### /home/biocbuild/bbs-3.7-bioc/R/bin/R CMD check --install=check:lydata.install-out.txt --library=/home/biocbuild/bbs-3.7-bioc/R/library --no-vignettes --timings lydata_1.6.0.tar.gz
###
##############################################################################
##############################################################################
* using log directory ‘/home/biocbuild/bbs-3.7-data-experiment/meat/lydata.Rcheck’
* using R version 3.5.1 Patched (2018-07-12 r74967)
* using platform: x86_64-pc-linux-gnu (64-bit)
* using session charset: UTF-8
* using option ‘--no-vignettes’
* checking for file ‘lydata/DESCRIPTION’ ... OK
* this is package ‘lydata’ version ‘1.6.0’
* checking package namespace information ... OK
* checking package dependencies ... OK
* checking if this is a source package ... OK
* checking if there is a namespace ... OK
* checking for hidden files and directories ... OK
* checking for portable file names ... OK
* checking for sufficient/correct file permissions ... OK
* checking whether package ‘lydata’ can be installed ... OK
* checking installed package size ... NOTE
installed size is 324.0Mb
sub-directories of 1Mb or more:
extdata 323.9Mb
* checking package directory ... OK
* checking DESCRIPTION meta-information ... OK
* checking top-level files ... OK
* checking for left-over files ... OK
* checking index information ... OK
* checking package subdirectories ... OK
* checking whether the package can be loaded ... OK
* checking whether the package can be loaded with stated dependencies ... OK
* checking whether the package can be unloaded cleanly ... OK
* checking whether the namespace can be loaded with stated dependencies ... OK
* checking whether the namespace can be unloaded cleanly ... OK
* checking examples ... NONE
* checking PDF version of manual ... OK
* DONE
Status: 1 NOTE
See
‘/home/biocbuild/bbs-3.7-data-experiment/meat/lydata.Rcheck/00check.log’
for details.
lydata.Rcheck/00install.out
############################################################################## ############################################################################## ### ### Running command: ### ### /home/biocbuild/bbs-3.7-bioc/R/bin/R CMD INSTALL lydata ### ############################################################################## ############################################################################## * installing to library ‘/home/biocbuild/bbs-3.7-bioc/R/library’ * installing *source* package ‘lydata’ ... ** inst ** help No man pages found in package ‘lydata’ *** installing help indices ** building package indices ** testing if installed package can be loaded * DONE (lydata)