| Back to Multiple platform build/check report for BioC 3.7 experimental data |
This page was generated on 2018-10-16 14:17:44 -0400 (Tue, 16 Oct 2018).
| Package 166/342 | Hostname | OS / Arch | INSTALL | BUILD | CHECK | BUILD BIN | ||||||
| iontreeData 1.16.0 Mingshu Cao
| malbec2 | Linux (Ubuntu 16.04.1 LTS) / x86_64 | [ OK ] | OK | WARNINGS |
| Package: iontreeData |
| Version: 1.16.0 |
| Command: /home/biocbuild/bbs-3.7-bioc/R/bin/R CMD INSTALL iontreeData |
| StartedAt: 2018-10-16 09:00:35 -0400 (Tue, 16 Oct 2018) |
| EndedAt: 2018-10-16 09:00:38 -0400 (Tue, 16 Oct 2018) |
| EllapsedTime: 3.9 seconds |
| RetCode: 0 |
| Status: OK |
############################################################################## ############################################################################## ### ### Running command: ### ### /home/biocbuild/bbs-3.7-bioc/R/bin/R CMD INSTALL iontreeData ### ############################################################################## ############################################################################## * installing to library ‘/home/biocbuild/bbs-3.7-bioc/R/library’ * installing *source* package ‘iontreeData’ ... ** data ** inst ** help *** installing help indices ** building package indices ** testing if installed package can be loaded * DONE (iontreeData)