| Back to Multiple platform build/check report for BioC 3.7 experimental data |
This page was generated on 2018-10-16 14:16:59 -0400 (Tue, 16 Oct 2018).
| Package 137/342 | Hostname | OS / Arch | INSTALL | BUILD | CHECK | BUILD BIN | ||||||
| hapmap100kxba 1.22.0 Benilton Carvalho
| malbec2 | Linux (Ubuntu 16.04.1 LTS) / x86_64 | OK | [ OK ] | OK |
| Package: hapmap100kxba |
| Version: 1.22.0 |
| Command: /home/biocbuild/bbs-3.7-bioc/R/bin/R CMD build --keep-empty-dirs --no-resave-data hapmap100kxba |
| StartedAt: 2018-10-16 09:21:19 -0400 (Tue, 16 Oct 2018) |
| EndedAt: 2018-10-16 09:22:14 -0400 (Tue, 16 Oct 2018) |
| EllapsedTime: 55.6 seconds |
| RetCode: 0 |
| Status: OK |
| PackageFile: hapmap100kxba_1.22.0.tar.gz |
| PackageFileSize: 38.99 MiB |
############################################################################## ############################################################################## ### ### Running command: ### ### /home/biocbuild/bbs-3.7-bioc/R/bin/R CMD build --keep-empty-dirs --no-resave-data hapmap100kxba ### ############################################################################## ############################################################################## * checking for file ‘hapmap100kxba/DESCRIPTION’ ... OK * preparing ‘hapmap100kxba’: * checking DESCRIPTION meta-information ... OK * checking for LF line-endings in source and make files and shell scripts * checking for empty or unneeded directories * building ‘hapmap100kxba_1.22.0.tar.gz’