| Back to Multiple platform build/check report for BioC 3.7 experimental data |
This page was generated on 2018-10-16 14:16:46 -0400 (Tue, 16 Oct 2018).
| Package 128/342 | Hostname | OS / Arch | INSTALL | BUILD | CHECK | BUILD BIN | ||||||
| golubEsets 1.22.0 Vince Carey
| malbec2 | Linux (Ubuntu 16.04.1 LTS) / x86_64 | OK | [ OK ] | OK |
| Package: golubEsets |
| Version: 1.22.0 |
| Command: /home/biocbuild/bbs-3.7-bioc/R/bin/R CMD build --keep-empty-dirs --no-resave-data golubEsets |
| StartedAt: 2018-10-16 09:20:31 -0400 (Tue, 16 Oct 2018) |
| EndedAt: 2018-10-16 09:20:34 -0400 (Tue, 16 Oct 2018) |
| EllapsedTime: 2.5 seconds |
| RetCode: 0 |
| Status: OK |
| PackageFile: golubEsets_1.22.0.tar.gz |
| PackageFileSize: 4.302 MiB |
############################################################################## ############################################################################## ### ### Running command: ### ### /home/biocbuild/bbs-3.7-bioc/R/bin/R CMD build --keep-empty-dirs --no-resave-data golubEsets ### ############################################################################## ############################################################################## * checking for file ‘golubEsets/DESCRIPTION’ ... OK * preparing ‘golubEsets’: * checking DESCRIPTION meta-information ... OK * checking for LF line-endings in source and make files and shell scripts * checking for empty or unneeded directories * looking to see if a ‘data/datalist’ file should be added * building ‘golubEsets_1.22.0.tar.gz’