| Back to Multiple platform build/check report for BioC 3.7 experimental data | 
This page was generated on 2018-10-16 14:18:30 -0400 (Tue, 16 Oct 2018).
| Package 52/342 | Hostname | OS / Arch | INSTALL | BUILD | CHECK | BUILD BIN | ||||||
| chipenrich.data 2.4.0 Raymond G. Cavalcante 
 | malbec2 | Linux (Ubuntu 16.04.1 LTS) / x86_64 | OK | [ OK ] | OK |  | 
| Package: chipenrich.data | 
| Version: 2.4.0 | 
| Command: /home/biocbuild/bbs-3.7-bioc/R/bin/R CMD build --keep-empty-dirs --no-resave-data chipenrich.data | 
| StartedAt: 2018-10-16 09:38:37 -0400 (Tue, 16 Oct 2018) | 
| EndedAt: 2018-10-16 09:42:00 -0400 (Tue, 16 Oct 2018) | 
| EllapsedTime: 203.0 seconds | 
| RetCode: 0 | 
| Status: OK | 
| PackageFile: chipenrich.data_2.4.0.tar.gz | 
| PackageFileSize: 67.31 MiB | 
##############################################################################
##############################################################################
###
### Running command:
###
###   /home/biocbuild/bbs-3.7-bioc/R/bin/R CMD build --keep-empty-dirs --no-resave-data chipenrich.data
###
##############################################################################
##############################################################################
* checking for file ‘chipenrich.data/DESCRIPTION’ ... OK
* preparing ‘chipenrich.data’:
* checking DESCRIPTION meta-information ... OK
* installing the package to build vignettes
* creating vignettes ... OK
Warning: ‘inst/doc’ files
    ‘chipenrich.data-vignette.Rmd’, ‘chipenrich.data-vignette.html’,  ‘chipenrich.data-vignette.R’
  ignored as vignettes have been rebuilt.
  Run R CMD build with --no-build-vignettes to prevent rebuilding.
* checking for LF line-endings in source and make files and shell scripts
* checking for empty or unneeded directories
* looking to see if a ‘data/datalist’ file should be added
* building ‘chipenrich.data_2.4.0.tar.gz’