| Back to Multiple platform build/check report for BioC 3.7 experimental data |
This page was generated on 2018-10-16 14:19:39 -0400 (Tue, 16 Oct 2018).
| Package 330/342 | Hostname | OS / Arch | INSTALL | BUILD | CHECK | BUILD BIN | ||||||
| VariantToolsData 1.4.0 Michael Lawrence
| malbec2 | Linux (Ubuntu 16.04.1 LTS) / x86_64 | OK | [ OK ] | WARNINGS |
| Package: VariantToolsData |
| Version: 1.4.0 |
| Command: /home/biocbuild/bbs-3.7-bioc/R/bin/R CMD build --keep-empty-dirs --no-resave-data VariantToolsData |
| StartedAt: 2018-10-16 10:02:41 -0400 (Tue, 16 Oct 2018) |
| EndedAt: 2018-10-16 10:03:32 -0400 (Tue, 16 Oct 2018) |
| EllapsedTime: 50.9 seconds |
| RetCode: 0 |
| Status: OK |
| PackageFile: VariantToolsData_1.4.0.tar.gz |
| PackageFileSize: 201.6 MiB |
############################################################################## ############################################################################## ### ### Running command: ### ### /home/biocbuild/bbs-3.7-bioc/R/bin/R CMD build --keep-empty-dirs --no-resave-data VariantToolsData ### ############################################################################## ############################################################################## * checking for file ‘VariantToolsData/DESCRIPTION’ ... OK * preparing ‘VariantToolsData’: * checking DESCRIPTION meta-information ... OK * installing the package to build vignettes * creating vignettes ... OK * checking for LF line-endings in source and make files and shell scripts * checking for empty or unneeded directories * looking to see if a ‘data/datalist’ file should be added * building ‘VariantToolsData_1.4.0.tar.gz’