| Back to Multiple platform build/check report for BioC 3.7 experimental data | 
This page was generated on 2018-10-16 14:17:13 -0400 (Tue, 16 Oct 2018).
| Package 314/342 | Hostname | OS / Arch | INSTALL | BUILD | CHECK | BUILD BIN | ||||||
| TargetSearchData 1.18.0 Alvaro Cuadros-Inostroza 
  | malbec2 | Linux (Ubuntu 16.04.1 LTS) / x86_64 | [ OK ] | OK | OK | 
| Package: TargetSearchData | 
| Version: 1.18.0 | 
| Command: /home/biocbuild/bbs-3.7-bioc/R/bin/R CMD INSTALL TargetSearchData | 
| StartedAt: 2018-10-16 08:59:30 -0400 (Tue, 16 Oct 2018) | 
| EndedAt: 2018-10-16 09:00:12 -0400 (Tue, 16 Oct 2018) | 
| EllapsedTime: 42.7 seconds | 
| RetCode: 0 | 
| Status: OK | 
############################################################################## ############################################################################## ### ### Running command: ### ### /home/biocbuild/bbs-3.7-bioc/R/bin/R CMD INSTALL TargetSearchData ### ############################################################################## ############################################################################## * installing to library ‘/home/biocbuild/bbs-3.7-bioc/R/library’ * installing *source* package ‘TargetSearchData’ ... ** R ** inst ** byte-compile and prepare package for lazy loading ** help *** installing help indices ** building package indices ** testing if installed package can be loaded * DONE (TargetSearchData)