| Back to Multiple platform build/check report for BioC 3.7 experimental data |
This page was generated on 2018-10-16 14:18:13 -0400 (Tue, 16 Oct 2018).
| Package 304/342 | Hostname | OS / Arch | INSTALL | BUILD | CHECK | BUILD BIN | ||||||
| SomatiCAData 1.18.0 Mengjie Chen
| malbec2 | Linux (Ubuntu 16.04.1 LTS) / x86_64 | [ OK ] | OK | WARNINGS |
| Package: SomatiCAData |
| Version: 1.18.0 |
| Command: /home/biocbuild/bbs-3.7-bioc/R/bin/R CMD INSTALL SomatiCAData |
| StartedAt: 2018-10-16 09:15:37 -0400 (Tue, 16 Oct 2018) |
| EndedAt: 2018-10-16 09:15:49 -0400 (Tue, 16 Oct 2018) |
| EllapsedTime: 11.2 seconds |
| RetCode: 0 |
| Status: OK |
############################################################################## ############################################################################## ### ### Running command: ### ### /home/biocbuild/bbs-3.7-bioc/R/bin/R CMD INSTALL SomatiCAData ### ############################################################################## ############################################################################## * installing to library ‘/home/biocbuild/bbs-3.7-bioc/R/library’ * installing *source* package ‘SomatiCAData’ ... ** R ** data *** moving datasets to lazyload DB ** byte-compile and prepare package for lazy loading ** help *** installing help indices ** building package indices ** testing if installed package can be loaded * DONE (SomatiCAData)