| Back to Multiple platform build/check report for BioC 3.7 experimental data |
This page was generated on 2018-10-16 14:18:23 -0400 (Tue, 16 Oct 2018).
| Package 270/342 | Hostname | OS / Arch | INSTALL | BUILD | CHECK | BUILD BIN | ||||||
| RNAseqData.HNRNPC.bam.chr14 0.18.0 Hervé Pagès
| malbec2 | Linux (Ubuntu 16.04.1 LTS) / x86_64 | OK | [ OK ] | OK |
| Package: RNAseqData.HNRNPC.bam.chr14 |
| Version: 0.18.0 |
| Command: /home/biocbuild/bbs-3.7-bioc/R/bin/R CMD build --keep-empty-dirs --no-resave-data RNAseqData.HNRNPC.bam.chr14 |
| StartedAt: 2018-10-16 09:33:25 -0400 (Tue, 16 Oct 2018) |
| EndedAt: 2018-10-16 09:34:14 -0400 (Tue, 16 Oct 2018) |
| EllapsedTime: 49.2 seconds |
| RetCode: 0 |
| Status: OK |
| PackageFile: RNAseqData.HNRNPC.bam.chr14_0.18.0.tar.gz |
| PackageFileSize: 332.5 MiB |
############################################################################## ############################################################################## ### ### Running command: ### ### /home/biocbuild/bbs-3.7-bioc/R/bin/R CMD build --keep-empty-dirs --no-resave-data RNAseqData.HNRNPC.bam.chr14 ### ############################################################################## ############################################################################## * checking for file ‘RNAseqData.HNRNPC.bam.chr14/DESCRIPTION’ ... OK * preparing ‘RNAseqData.HNRNPC.bam.chr14’: * checking DESCRIPTION meta-information ... OK * checking for LF line-endings in source and make files and shell scripts * checking for empty or unneeded directories * building ‘RNAseqData.HNRNPC.bam.chr14_0.18.0.tar.gz’