| Back to Multiple platform build/check report for BioC 3.7 experimental data |
This page was generated on 2018-10-16 14:19:08 -0400 (Tue, 16 Oct 2018).
| Package 257/342 | Hostname | OS / Arch | INSTALL | BUILD | CHECK | BUILD BIN | ||||||
| QDNAseq.hg19 1.10.0 Daoud Sie
| malbec2 | Linux (Ubuntu 16.04.1 LTS) / x86_64 | OK | OK | [ OK ] |
| Package: QDNAseq.hg19 |
| Version: 1.10.0 |
| Command: /home/biocbuild/bbs-3.7-bioc/R/bin/R CMD check --install=check:QDNAseq.hg19.install-out.txt --library=/home/biocbuild/bbs-3.7-bioc/R/library --no-vignettes --timings QDNAseq.hg19_1.10.0.tar.gz |
| StartedAt: 2018-10-16 11:20:31 -0400 (Tue, 16 Oct 2018) |
| EndedAt: 2018-10-16 11:22:35 -0400 (Tue, 16 Oct 2018) |
| EllapsedTime: 123.3 seconds |
| RetCode: 0 |
| Status: OK |
| CheckDir: QDNAseq.hg19.Rcheck |
| Warnings: 0 |
##############################################################################
##############################################################################
###
### Running command:
###
### /home/biocbuild/bbs-3.7-bioc/R/bin/R CMD check --install=check:QDNAseq.hg19.install-out.txt --library=/home/biocbuild/bbs-3.7-bioc/R/library --no-vignettes --timings QDNAseq.hg19_1.10.0.tar.gz
###
##############################################################################
##############################################################################
* using log directory ‘/home/biocbuild/bbs-3.7-data-experiment/meat/QDNAseq.hg19.Rcheck’
* using R version 3.5.1 Patched (2018-07-12 r74967)
* using platform: x86_64-pc-linux-gnu (64-bit)
* using session charset: UTF-8
* using option ‘--no-vignettes’
* checking for file ‘QDNAseq.hg19/DESCRIPTION’ ... OK
* checking extension type ... Package
* this is package ‘QDNAseq.hg19’ version ‘1.10.0’
* checking package namespace information ... OK
* checking package dependencies ... OK
* checking if this is a source package ... OK
* checking if there is a namespace ... OK
* checking for hidden files and directories ... OK
* checking for portable file names ... OK
* checking for sufficient/correct file permissions ... OK
* checking whether package ‘QDNAseq.hg19’ can be installed ... OK
* checking installed package size ... NOTE
installed size is 35.4Mb
sub-directories of 1Mb or more:
data 35.3Mb
* checking package directory ... OK
* checking DESCRIPTION meta-information ... OK
* checking top-level files ... OK
* checking for left-over files ... OK
* checking index information ... OK
* checking package subdirectories ... OK
* checking R files for non-ASCII characters ... OK
* checking R files for syntax errors ... OK
* checking whether the package can be loaded ... OK
* checking whether the package can be loaded with stated dependencies ... OK
* checking whether the package can be unloaded cleanly ... OK
* checking whether the namespace can be loaded with stated dependencies ... OK
* checking whether the namespace can be unloaded cleanly ... OK
* checking dependencies in R code ... OK
* checking S3 generic/method consistency ... OK
* checking replacement functions ... OK
* checking foreign function calls ... OK
* checking R code for possible problems ... OK
* checking Rd files ... OK
* checking Rd metadata ... OK
* checking Rd cross-references ... OK
* checking for missing documentation entries ... OK
* checking for code/documentation mismatches ... OK
* checking Rd \usage sections ... OK
* checking Rd contents ... OK
* checking for unstated dependencies in examples ... OK
* checking contents of ‘data’ directory ... OK
* checking data for non-ASCII characters ... OK
* checking data for ASCII and uncompressed saves ... OK
* checking examples ... OK
Examples with CPU or elapsed time > 5s
user system elapsed
hg19.1kbp.SR50 17.36 0.336 17.73
* checking PDF version of manual ... OK
* DONE
Status: 1 NOTE
See
‘/home/biocbuild/bbs-3.7-data-experiment/meat/QDNAseq.hg19.Rcheck/00check.log’
for details.
QDNAseq.hg19.Rcheck/00install.out
############################################################################## ############################################################################## ### ### Running command: ### ### /home/biocbuild/bbs-3.7-bioc/R/bin/R CMD INSTALL QDNAseq.hg19 ### ############################################################################## ############################################################################## * installing to library ‘/home/biocbuild/bbs-3.7-bioc/R/library’ * installing *source* package ‘QDNAseq.hg19’ ... ** R ** data ** byte-compile and prepare package for lazy loading ** help *** installing help indices ** building package indices ** testing if installed package can be loaded * DONE (QDNAseq.hg19)
QDNAseq.hg19.Rcheck/QDNAseq.hg19-Ex.timings
| name | user | system | elapsed | |
| QDNAseq.hg19-package | 0.480 | 0.024 | 0.517 | |
| hg19.1000kbp.SR50 | 0.024 | 0.016 | 0.047 | |
| hg19.100kbp.SR50 | 0.448 | 0.016 | 0.467 | |
| hg19.10kbp.SR50 | 1.728 | 0.032 | 1.779 | |
| hg19.15kbp.SR50 | 1.328 | 0.040 | 1.369 | |
| hg19.1kbp.SR50 | 17.360 | 0.336 | 17.730 | |
| hg19.30kbp.SR50 | 0.512 | 0.008 | 0.519 | |
| hg19.500kbp.SR50 | 0.044 | 0.012 | 0.056 | |
| hg19.50kbp.SR50 | 0.308 | 0.008 | 0.317 | |
| hg19.5kbp.SR50 | 3.088 | 0.072 | 3.179 | |