| Back to Multiple platform build/check report for BioC 3.7 experimental data |
This page was generated on 2018-10-16 14:19:56 -0400 (Tue, 16 Oct 2018).
| Package 198/342 | Hostname | OS / Arch | INSTALL | BUILD | CHECK | BUILD BIN | ||||||
| MetaGxPancreas 1.0.0 Michael Zon
| malbec2 | Linux (Ubuntu 16.04.1 LTS) / x86_64 | OK | [ OK ] | OK |
| Package: MetaGxPancreas |
| Version: 1.0.0 |
| Command: /home/biocbuild/bbs-3.7-bioc/R/bin/R CMD build --keep-empty-dirs --no-resave-data MetaGxPancreas |
| StartedAt: 2018-10-16 10:06:28 -0400 (Tue, 16 Oct 2018) |
| EndedAt: 2018-10-16 10:06:55 -0400 (Tue, 16 Oct 2018) |
| EllapsedTime: 26.3 seconds |
| RetCode: 0 |
| Status: OK |
| PackageFile: MetaGxPancreas_1.0.0.tar.gz |
| PackageFileSize: 143.2 KiB |
############################################################################## ############################################################################## ### ### Running command: ### ### /home/biocbuild/bbs-3.7-bioc/R/bin/R CMD build --keep-empty-dirs --no-resave-data MetaGxPancreas ### ############################################################################## ############################################################################## * checking for file ‘MetaGxPancreas/DESCRIPTION’ ... OK * preparing ‘MetaGxPancreas’: * checking DESCRIPTION meta-information ... OK * installing the package to build vignettes * creating vignettes ... OK * checking for LF line-endings in source and make files and shell scripts * checking for empty or unneeded directories * building ‘MetaGxPancreas_1.0.0.tar.gz’