| Back to Multiple platform build/check report for BioC 3.7 experimental data |
This page was generated on 2018-10-16 14:19:52 -0400 (Tue, 16 Oct 2018).
| Package 197/342 | Hostname | OS / Arch | INSTALL | BUILD | CHECK | BUILD BIN | ||||||
| MetaGxOvarian 1.0.0 Michael Zon
| malbec2 | Linux (Ubuntu 16.04.1 LTS) / x86_64 | [ OK ] | OK | WARNINGS |
| Package: MetaGxOvarian |
| Version: 1.0.0 |
| Command: /home/biocbuild/bbs-3.7-bioc/R/bin/R CMD INSTALL MetaGxOvarian |
| StartedAt: 2018-10-16 09:16:09 -0400 (Tue, 16 Oct 2018) |
| EndedAt: 2018-10-16 09:16:20 -0400 (Tue, 16 Oct 2018) |
| EllapsedTime: 10.6 seconds |
| RetCode: 0 |
| Status: OK |
############################################################################## ############################################################################## ### ### Running command: ### ### /home/biocbuild/bbs-3.7-bioc/R/bin/R CMD INSTALL MetaGxOvarian ### ############################################################################## ############################################################################## * installing to library ‘/home/biocbuild/bbs-3.7-bioc/R/library’ * installing *source* package ‘MetaGxOvarian’ ... ** R ** inst ** byte-compile and prepare package for lazy loading ** help *** installing help indices ** building package indices ** installing vignettes ** testing if installed package can be loaded * DONE (MetaGxOvarian)