| Back to Multiple platform build/check report for BioC 3.7 experimental data |
This page was generated on 2018-10-16 14:19:44 -0400 (Tue, 16 Oct 2018).
| Package 218/342 | Hostname | OS / Arch | INSTALL | BUILD | CHECK | BUILD BIN | ||||||
| MSstatsBioData 1.2.0 Meena Choi
| malbec2 | Linux (Ubuntu 16.04.1 LTS) / x86_64 | [ OK ] | OK | OK |
| Package: MSstatsBioData |
| Version: 1.2.0 |
| Command: /home/biocbuild/bbs-3.7-bioc/R/bin/R CMD INSTALL MSstatsBioData |
| StartedAt: 2018-10-16 09:04:49 -0400 (Tue, 16 Oct 2018) |
| EndedAt: 2018-10-16 09:04:55 -0400 (Tue, 16 Oct 2018) |
| EllapsedTime: 5.3 seconds |
| RetCode: 0 |
| Status: OK |
############################################################################## ############################################################################## ### ### Running command: ### ### /home/biocbuild/bbs-3.7-bioc/R/bin/R CMD INSTALL MSstatsBioData ### ############################################################################## ############################################################################## * installing to library ‘/home/biocbuild/bbs-3.7-bioc/R/library’ * installing *source* package ‘MSstatsBioData’ ... ** data *** moving datasets to lazyload DB ** inst ** help *** installing help indices ** building package indices ** installing vignettes ** testing if installed package can be loaded * DONE (MSstatsBioData)