| Back to Multiple platform build/check report for BioC 3.7 experimental data |
This page was generated on 2018-10-16 14:18:21 -0400 (Tue, 16 Oct 2018).
| Package 210/342 | Hostname | OS / Arch | INSTALL | BUILD | CHECK | BUILD BIN | ||||||
| MMDiffBamSubset 1.16.0 Gabriele Schweikert
| malbec2 | Linux (Ubuntu 16.04.1 LTS) / x86_64 | [ OK ] | OK | OK |
| Package: MMDiffBamSubset |
| Version: 1.16.0 |
| Command: /home/biocbuild/bbs-3.7-bioc/R/bin/R CMD INSTALL MMDiffBamSubset |
| StartedAt: 2018-10-16 08:57:59 -0400 (Tue, 16 Oct 2018) |
| EndedAt: 2018-10-16 08:58:55 -0400 (Tue, 16 Oct 2018) |
| EllapsedTime: 55.9 seconds |
| RetCode: 0 |
| Status: OK |
############################################################################## ############################################################################## ### ### Running command: ### ### /home/biocbuild/bbs-3.7-bioc/R/bin/R CMD INSTALL MMDiffBamSubset ### ############################################################################## ############################################################################## * installing to library ‘/home/biocbuild/bbs-3.7-bioc/R/library’ * installing *source* package ‘MMDiffBamSubset’ ... ** R ** inst ** byte-compile and prepare package for lazy loading ** help *** installing help indices ** building package indices ** testing if installed package can be loaded * DONE (MMDiffBamSubset)