| Back to Multiple platform build/check report for BioC 3.7 experimental data |
This page was generated on 2018-10-16 14:17:40 -0400 (Tue, 16 Oct 2018).
| Package 178/342 | Hostname | OS / Arch | INSTALL | BUILD | CHECK | BUILD BIN | ||||||
| LiebermanAidenHiC2009 0.18.0 Felix Klein
| malbec2 | Linux (Ubuntu 16.04.1 LTS) / x86_64 | [ OK ] | OK | WARNINGS |
| Package: LiebermanAidenHiC2009 |
| Version: 0.18.0 |
| Command: /home/biocbuild/bbs-3.7-bioc/R/bin/R CMD INSTALL LiebermanAidenHiC2009 |
| StartedAt: 2018-10-16 09:04:43 -0400 (Tue, 16 Oct 2018) |
| EndedAt: 2018-10-16 09:04:49 -0400 (Tue, 16 Oct 2018) |
| EllapsedTime: 5.9 seconds |
| RetCode: 0 |
| Status: OK |
############################################################################## ############################################################################## ### ### Running command: ### ### /home/biocbuild/bbs-3.7-bioc/R/bin/R CMD INSTALL LiebermanAidenHiC2009 ### ############################################################################## ############################################################################## * installing to library ‘/home/biocbuild/bbs-3.7-bioc/R/library’ * installing *source* package ‘LiebermanAidenHiC2009’ ... ** data ** inst ** help No man pages found in package ‘LiebermanAidenHiC2009’ *** installing help indices ** building package indices ** installing vignettes ** testing if installed package can be loaded * DONE (LiebermanAidenHiC2009)