| Back to Multiple platform build/check report for BioC 3.7 experimental data |
This page was generated on 2018-10-16 14:18:04 -0400 (Tue, 16 Oct 2018).
| Package 173/342 | Hostname | OS / Arch | INSTALL | BUILD | CHECK | BUILD BIN | ||||||
| KEGGdzPathwaysGEO 1.18.0 Gaurav Bhatti
| malbec2 | Linux (Ubuntu 16.04.1 LTS) / x86_64 | OK | OK | [ OK ] |
| Package: KEGGdzPathwaysGEO |
| Version: 1.18.0 |
| Command: /home/biocbuild/bbs-3.7-bioc/R/bin/R CMD check --install=check:KEGGdzPathwaysGEO.install-out.txt --library=/home/biocbuild/bbs-3.7-bioc/R/library --no-vignettes --timings KEGGdzPathwaysGEO_1.18.0.tar.gz |
| StartedAt: 2018-10-16 11:06:09 -0400 (Tue, 16 Oct 2018) |
| EndedAt: 2018-10-16 11:11:22 -0400 (Tue, 16 Oct 2018) |
| EllapsedTime: 312.9 seconds |
| RetCode: 0 |
| Status: OK |
| CheckDir: KEGGdzPathwaysGEO.Rcheck |
| Warnings: 0 |
##############################################################################
##############################################################################
###
### Running command:
###
### /home/biocbuild/bbs-3.7-bioc/R/bin/R CMD check --install=check:KEGGdzPathwaysGEO.install-out.txt --library=/home/biocbuild/bbs-3.7-bioc/R/library --no-vignettes --timings KEGGdzPathwaysGEO_1.18.0.tar.gz
###
##############################################################################
##############################################################################
* using log directory ‘/home/biocbuild/bbs-3.7-data-experiment/meat/KEGGdzPathwaysGEO.Rcheck’
* using R version 3.5.1 Patched (2018-07-12 r74967)
* using platform: x86_64-pc-linux-gnu (64-bit)
* using session charset: UTF-8
* using option ‘--no-vignettes’
* checking for file ‘KEGGdzPathwaysGEO/DESCRIPTION’ ... OK
* checking extension type ... Package
* this is package ‘KEGGdzPathwaysGEO’ version ‘1.18.0’
* checking package namespace information ... OK
* checking package dependencies ... OK
* checking if this is a source package ... OK
* checking if there is a namespace ... OK
* checking for hidden files and directories ... OK
* checking for portable file names ... OK
* checking for sufficient/correct file permissions ... OK
* checking whether package ‘KEGGdzPathwaysGEO’ can be installed ... OK
* checking installed package size ... NOTE
installed size is 300.7Mb
sub-directories of 1Mb or more:
data 300.6Mb
* checking package directory ... OK
* checking DESCRIPTION meta-information ... OK
* checking top-level files ... OK
* checking for left-over files ... OK
* checking index information ... OK
* checking package subdirectories ... OK
* checking R files for non-ASCII characters ... OK
* checking R files for syntax errors ... OK
* checking whether the package can be loaded ... OK
* checking whether the package can be loaded with stated dependencies ... OK
* checking whether the package can be unloaded cleanly ... OK
* checking whether the namespace can be loaded with stated dependencies ... OK
* checking whether the namespace can be unloaded cleanly ... OK
* checking dependencies in R code ... NOTE
Namespaces in Imports field not imported from:
‘Biobase’ ‘BiocGenerics’
All declared Imports should be used.
* checking S3 generic/method consistency ... OK
* checking replacement functions ... OK
* checking foreign function calls ... OK
* checking R code for possible problems ... OK
* checking Rd files ... OK
* checking Rd metadata ... OK
* checking Rd cross-references ... OK
* checking for missing documentation entries ... OK
* checking for code/documentation mismatches ... OK
* checking Rd \usage sections ... OK
* checking Rd contents ... OK
* checking for unstated dependencies in examples ... OK
* checking contents of ‘data’ directory ... OK
* checking data for non-ASCII characters ... OK
* checking data for ASCII and uncompressed saves ... OK
* checking examples ... OK
* checking PDF version of manual ... OK
* DONE
Status: 2 NOTEs
See
‘/home/biocbuild/bbs-3.7-data-experiment/meat/KEGGdzPathwaysGEO.Rcheck/00check.log’
for details.
KEGGdzPathwaysGEO.Rcheck/00install.out
############################################################################## ############################################################################## ### ### Running command: ### ### /home/biocbuild/bbs-3.7-bioc/R/bin/R CMD INSTALL KEGGdzPathwaysGEO ### ############################################################################## ############################################################################## * installing to library ‘/home/biocbuild/bbs-3.7-bioc/R/library’ * installing *source* package ‘KEGGdzPathwaysGEO’ ... ** R ** data ** byte-compile and prepare package for lazy loading ** help *** installing help indices ** building package indices ** testing if installed package can be loaded * DONE (KEGGdzPathwaysGEO)
KEGGdzPathwaysGEO.Rcheck/KEGGdzPathwaysGEO-Ex.timings
| name | user | system | elapsed | |
| GSE1297 | 0.064 | 0.000 | 0.118 | |
| GSE14762 | 0.132 | 0.004 | 0.191 | |
| GSE15471 | 0.308 | 0.012 | 0.396 | |
| GSE16515 | 0.156 | 0.004 | 0.181 | |
| GSE18842 | 0.364 | 0.020 | 0.467 | |
| GSE19188 | 0.648 | 0.052 | 0.762 | |
| GSE19728 | 0.128 | 0.004 | 0.158 | |
| GSE20153 | 0.160 | 0.004 | 0.183 | |
| GSE20291 | 0.096 | 0.008 | 0.108 | |
| GSE21354 | 0.172 | 0.000 | 0.171 | |
| GSE3467 | 0.160 | 0.008 | 0.190 | |
| GSE3585 | 0.036 | 0.004 | 0.287 | |
| GSE3678 | 0.096 | 0.000 | 0.116 | |
| GSE4107 | 0.132 | 0.000 | 0.228 | |
| GSE5281_EC | 0.116 | 0.004 | 0.144 | |
| GSE5281_HIP | 0.136 | 0.004 | 0.207 | |
| GSE5281_VCX | 0.148 | 0.008 | 0.155 | |
| GSE6956AA | 0.060 | 0.000 | 0.074 | |
| GSE6956C | 0.096 | 0.004 | 0.256 | |
| GSE781 | 0.048 | 0.004 | 0.065 | |
| GSE8671 | 0.332 | 0.004 | 0.396 | |
| GSE8762 | 0.140 | 0.004 | 0.208 | |
| GSE9348 | 0.332 | 0.008 | 0.341 | |
| GSE9476 | 0.124 | 0.000 | 0.161 | |
| KEGGdzPathwaysGEO-package | 0.356 | 0.008 | 0.371 | |