| Back to Multiple platform build/check report for BioC 3.7 experimental data |
This page was generated on 2018-10-16 14:18:42 -0400 (Tue, 16 Oct 2018).
| Package 172/342 | Hostname | OS / Arch | INSTALL | BUILD | CHECK | BUILD BIN | ||||||
| KEGGandMetacoreDzPathwaysGEO 0.114.0 Gaurav Bhatti
| malbec2 | Linux (Ubuntu 16.04.1 LTS) / x86_64 | OK | [ OK ] | OK |
| Package: KEGGandMetacoreDzPathwaysGEO |
| Version: 0.114.0 |
| Command: /home/biocbuild/bbs-3.7-bioc/R/bin/R CMD build --keep-empty-dirs --no-resave-data KEGGandMetacoreDzPathwaysGEO |
| StartedAt: 2018-10-16 09:44:07 -0400 (Tue, 16 Oct 2018) |
| EndedAt: 2018-10-16 09:44:46 -0400 (Tue, 16 Oct 2018) |
| EllapsedTime: 39.7 seconds |
| RetCode: 0 |
| Status: OK |
| PackageFile: KEGGandMetacoreDzPathwaysGEO_0.114.0.tar.gz |
| PackageFileSize: 98.6 MiB |
############################################################################## ############################################################################## ### ### Running command: ### ### /home/biocbuild/bbs-3.7-bioc/R/bin/R CMD build --keep-empty-dirs --no-resave-data KEGGandMetacoreDzPathwaysGEO ### ############################################################################## ############################################################################## * checking for file ‘KEGGandMetacoreDzPathwaysGEO/DESCRIPTION’ ... OK * preparing ‘KEGGandMetacoreDzPathwaysGEO’: * checking DESCRIPTION meta-information ... OK * installing the package to build vignettes * creating vignettes ... OK * checking for LF line-endings in source and make files and shell scripts * checking for empty or unneeded directories * looking to see if a ‘data/datalist’ file should be added * building ‘KEGGandMetacoreDzPathwaysGEO_0.114.0.tar.gz’