| Back to Multiple platform build/check report for BioC 3.7 experimental data |
This page was generated on 2018-10-16 14:18:26 -0400 (Tue, 16 Oct 2018).
| Package 165/342 | Hostname | OS / Arch | INSTALL | BUILD | CHECK | BUILD BIN | ||||||
| IlluminaDataTestFiles 1.18.0 Kasper Daniel Hansen
| malbec2 | Linux (Ubuntu 16.04.1 LTS) / x86_64 | OK | [ OK ] | OK |
| Package: IlluminaDataTestFiles |
| Version: 1.18.0 |
| Command: /home/biocbuild/bbs-3.7-bioc/R/bin/R CMD build --keep-empty-dirs --no-resave-data IlluminaDataTestFiles |
| StartedAt: 2018-10-16 09:36:56 -0400 (Tue, 16 Oct 2018) |
| EndedAt: 2018-10-16 09:37:10 -0400 (Tue, 16 Oct 2018) |
| EllapsedTime: 14.0 seconds |
| RetCode: 0 |
| Status: OK |
| PackageFile: IlluminaDataTestFiles_1.18.0.tar.gz |
| PackageFileSize: 23.69 MiB |
############################################################################## ############################################################################## ### ### Running command: ### ### /home/biocbuild/bbs-3.7-bioc/R/bin/R CMD build --keep-empty-dirs --no-resave-data IlluminaDataTestFiles ### ############################################################################## ############################################################################## * checking for file ‘IlluminaDataTestFiles/DESCRIPTION’ ... OK * preparing ‘IlluminaDataTestFiles’: * checking DESCRIPTION meta-information ... OK * checking for LF line-endings in source and make files and shell scripts * checking for empty or unneeded directories * building ‘IlluminaDataTestFiles_1.18.0.tar.gz’