| Back to Multiple platform build/check report for BioC 3.7 experimental data |
This page was generated on 2018-10-16 14:18:17 -0400 (Tue, 16 Oct 2018).
| Package 145/342 | Hostname | OS / Arch | INSTALL | BUILD | CHECK | BUILD BIN | ||||||
| HD2013SGI 1.20.0 Bernd Fischer
| malbec2 | Linux (Ubuntu 16.04.1 LTS) / x86_64 | [ OK ] | OK | OK |
| Package: HD2013SGI |
| Version: 1.20.0 |
| Command: /home/biocbuild/bbs-3.7-bioc/R/bin/R CMD INSTALL HD2013SGI |
| StartedAt: 2018-10-16 09:07:29 -0400 (Tue, 16 Oct 2018) |
| EndedAt: 2018-10-16 09:07:57 -0400 (Tue, 16 Oct 2018) |
| EllapsedTime: 28.5 seconds |
| RetCode: 0 |
| Status: OK |
############################################################################## ############################################################################## ### ### Running command: ### ### /home/biocbuild/bbs-3.7-bioc/R/bin/R CMD INSTALL HD2013SGI ### ############################################################################## ############################################################################## * installing to library ‘/home/biocbuild/bbs-3.7-bioc/R/library’ * installing *source* package ‘HD2013SGI’ ... ** R ** data ** inst ** byte-compile and prepare package for lazy loading ** help *** installing help indices ** building package indices ** installing vignettes ** testing if installed package can be loaded * DONE (HD2013SGI)