| Back to Multiple platform build/check report for BioC 3.7 experimental data |
This page was generated on 2018-10-16 14:17:38 -0400 (Tue, 16 Oct 2018).
| Package 133/342 | Hostname | OS / Arch | INSTALL | BUILD | CHECK | BUILD BIN | ||||||
| GSVAdata 1.16.0 Robert Castelo
| malbec2 | Linux (Ubuntu 16.04.1 LTS) / x86_64 | OK | OK | [ OK ] |
| Package: GSVAdata |
| Version: 1.16.0 |
| Command: /home/biocbuild/bbs-3.7-bioc/R/bin/R CMD check --install=check:GSVAdata.install-out.txt --library=/home/biocbuild/bbs-3.7-bioc/R/library --no-vignettes --timings GSVAdata_1.16.0.tar.gz |
| StartedAt: 2018-10-16 11:00:58 -0400 (Tue, 16 Oct 2018) |
| EndedAt: 2018-10-16 11:01:43 -0400 (Tue, 16 Oct 2018) |
| EllapsedTime: 45.0 seconds |
| RetCode: 0 |
| Status: OK |
| CheckDir: GSVAdata.Rcheck |
| Warnings: 0 |
##############################################################################
##############################################################################
###
### Running command:
###
### /home/biocbuild/bbs-3.7-bioc/R/bin/R CMD check --install=check:GSVAdata.install-out.txt --library=/home/biocbuild/bbs-3.7-bioc/R/library --no-vignettes --timings GSVAdata_1.16.0.tar.gz
###
##############################################################################
##############################################################################
* using log directory ‘/home/biocbuild/bbs-3.7-data-experiment/meat/GSVAdata.Rcheck’
* using R version 3.5.1 Patched (2018-07-12 r74967)
* using platform: x86_64-pc-linux-gnu (64-bit)
* using session charset: UTF-8
* using option ‘--no-vignettes’
* checking for file ‘GSVAdata/DESCRIPTION’ ... OK
* this is package ‘GSVAdata’ version ‘1.16.0’
* checking package namespace information ... OK
* checking package dependencies ... OK
* checking if this is a source package ... OK
* checking if there is a namespace ... OK
* checking for hidden files and directories ... OK
* checking for portable file names ... OK
* checking for sufficient/correct file permissions ... OK
* checking whether package ‘GSVAdata’ can be installed ... OK
* checking installed package size ... NOTE
installed size is 12.8Mb
sub-directories of 1Mb or more:
data 12.7Mb
* checking package directory ... OK
* checking DESCRIPTION meta-information ... NOTE
Malformed Description field: should contain one or more complete sentences.
* checking top-level files ... OK
* checking for left-over files ... OK
* checking index information ... OK
* checking package subdirectories ... OK
* checking whether the package can be loaded ... OK
* checking whether the package can be loaded with stated dependencies ... OK
* checking whether the package can be unloaded cleanly ... OK
* checking whether the namespace can be loaded with stated dependencies ... OK
* checking whether the namespace can be unloaded cleanly ... OK
* checking Rd files ... OK
* checking Rd metadata ... OK
* checking Rd cross-references ... OK
* checking for missing documentation entries ... OK
* checking for code/documentation mismatches ... OK
* checking Rd \usage sections ... OK
* checking Rd contents ... OK
* checking for unstated dependencies in examples ... OK
* checking contents of ‘data’ directory ... OK
* checking data for non-ASCII characters ... OK
* checking data for ASCII and uncompressed saves ... OK
* checking examples ... OK
* checking PDF version of manual ... OK
* DONE
Status: 2 NOTEs
See
‘/home/biocbuild/bbs-3.7-data-experiment/meat/GSVAdata.Rcheck/00check.log’
for details.
GSVAdata.Rcheck/00install.out
############################################################################## ############################################################################## ### ### Running command: ### ### /home/biocbuild/bbs-3.7-bioc/R/bin/R CMD INSTALL GSVAdata ### ############################################################################## ############################################################################## * installing to library ‘/home/biocbuild/bbs-3.7-bioc/R/library’ * installing *source* package ‘GSVAdata’ ... ** data ** help *** installing help indices ** building package indices ** testing if installed package can be loaded * DONE (GSVAdata)
GSVAdata.Rcheck/GSVAdata-Ex.timings
| name | user | system | elapsed | |
| annotEntrez220212 | 0.076 | 0.004 | 0.079 | |
| brainTxDbSets | 0.004 | 0.000 | 0.004 | |
| c2BroadSets | 1.556 | 0.060 | 1.619 | |
| commonPickrellHuang | 0.708 | 0.008 | 0.719 | |
| gbm_VerhaakEtAl | 0.428 | 0.012 | 0.443 | |
| genderGenesEntrez | 0.000 | 0.000 | 0.003 | |
| leukemia | 0.332 | 0.004 | 0.336 | |