| Back to Multiple platform build/check report for BioC 3.7 experimental data |
This page was generated on 2018-10-16 14:19:21 -0400 (Tue, 16 Oct 2018).
| Package 131/342 | Hostname | OS / Arch | INSTALL | BUILD | CHECK | BUILD BIN | ||||||
| GSE62944 1.8.0 Bioconductor Package Maintainer
| malbec2 | Linux (Ubuntu 16.04.1 LTS) / x86_64 | [ OK ] | OK | OK |
| Package: GSE62944 |
| Version: 1.8.0 |
| Command: /home/biocbuild/bbs-3.7-bioc/R/bin/R CMD INSTALL GSE62944 |
| StartedAt: 2018-10-16 09:08:11 -0400 (Tue, 16 Oct 2018) |
| EndedAt: 2018-10-16 09:08:28 -0400 (Tue, 16 Oct 2018) |
| EllapsedTime: 17.2 seconds |
| RetCode: 0 |
| Status: OK |
############################################################################## ############################################################################## ### ### Running command: ### ### /home/biocbuild/bbs-3.7-bioc/R/bin/R CMD INSTALL GSE62944 ### ############################################################################## ############################################################################## * installing to library ‘/home/biocbuild/bbs-3.7-bioc/R/library’ * installing *source* package ‘GSE62944’ ... ** inst ** help *** installing help indices ** building package indices ** installing vignettes ** testing if installed package can be loaded * DONE (GSE62944)