| Back to Multiple platform build/check report for BioC 3.7 experimental data |
This page was generated on 2018-10-16 14:18:44 -0400 (Tue, 16 Oct 2018).
| Package 130/342 | Hostname | OS / Arch | INSTALL | BUILD | CHECK | BUILD BIN | ||||||
| GSBenchMark 0.114.0 Bahman Afsari
| malbec2 | Linux (Ubuntu 16.04.1 LTS) / x86_64 | OK | OK | [ OK ] |
| Package: GSBenchMark |
| Version: 0.114.0 |
| Command: /home/biocbuild/bbs-3.7-bioc/R/bin/R CMD check --install=check:GSBenchMark.install-out.txt --library=/home/biocbuild/bbs-3.7-bioc/R/library --no-vignettes --timings GSBenchMark_0.114.0.tar.gz |
| StartedAt: 2018-10-16 11:00:39 -0400 (Tue, 16 Oct 2018) |
| EndedAt: 2018-10-16 11:01:03 -0400 (Tue, 16 Oct 2018) |
| EllapsedTime: 24.2 seconds |
| RetCode: 0 |
| Status: OK |
| CheckDir: GSBenchMark.Rcheck |
| Warnings: 0 |
##############################################################################
##############################################################################
###
### Running command:
###
### /home/biocbuild/bbs-3.7-bioc/R/bin/R CMD check --install=check:GSBenchMark.install-out.txt --library=/home/biocbuild/bbs-3.7-bioc/R/library --no-vignettes --timings GSBenchMark_0.114.0.tar.gz
###
##############################################################################
##############################################################################
* using log directory ‘/home/biocbuild/bbs-3.7-data-experiment/meat/GSBenchMark.Rcheck’
* using R version 3.5.1 Patched (2018-07-12 r74967)
* using platform: x86_64-pc-linux-gnu (64-bit)
* using session charset: UTF-8
* using option ‘--no-vignettes’
* checking for file ‘GSBenchMark/DESCRIPTION’ ... OK
* this is package ‘GSBenchMark’ version ‘0.114.0’
* checking package namespace information ... OK
* checking package dependencies ... OK
* checking if this is a source package ... OK
* checking if there is a namespace ... OK
* checking for hidden files and directories ... OK
* checking for portable file names ... OK
* checking for sufficient/correct file permissions ... OK
* checking whether package ‘GSBenchMark’ can be installed ... OK
* checking installed package size ... NOTE
installed size is 41.9Mb
sub-directories of 1Mb or more:
data 41.8Mb
* checking package directory ... OK
* checking ‘build’ directory ... OK
* checking DESCRIPTION meta-information ... OK
* checking top-level files ... OK
* checking for left-over files ... OK
* checking index information ... OK
* checking package subdirectories ... OK
* checking whether the package can be loaded ... OK
* checking whether the package can be loaded with stated dependencies ... OK
* checking whether the package can be unloaded cleanly ... OK
* checking whether the namespace can be loaded with stated dependencies ... OK
* checking whether the namespace can be unloaded cleanly ... OK
* checking Rd files ... OK
* checking Rd metadata ... OK
* checking Rd cross-references ... OK
* checking for missing documentation entries ... OK
* checking for code/documentation mismatches ... OK
* checking Rd \usage sections ... OK
* checking Rd contents ... OK
* checking for unstated dependencies in examples ... OK
* checking contents of ‘data’ directory ... OK
* checking data for non-ASCII characters ... OK
* checking data for ASCII and uncompressed saves ... OK
* checking files in ‘vignettes’ ... OK
* checking examples ... OK
* checking for unstated dependencies in vignettes ... OK
* checking package vignettes in ‘inst/doc’ ... OK
* checking running R code from vignettes ... SKIPPED
* checking re-building of vignette outputs ... SKIPPED
* checking PDF version of manual ... OK
* DONE
Status: 1 NOTE
See
‘/home/biocbuild/bbs-3.7-data-experiment/meat/GSBenchMark.Rcheck/00check.log’
for details.
GSBenchMark.Rcheck/00install.out
############################################################################## ############################################################################## ### ### Running command: ### ### /home/biocbuild/bbs-3.7-bioc/R/bin/R CMD INSTALL GSBenchMark ### ############################################################################## ############################################################################## * installing to library ‘/home/biocbuild/bbs-3.7-bioc/R/library’ * installing *source* package ‘GSBenchMark’ ... ** data ** help *** installing help indices ** building package indices ** installing vignettes ** testing if installed package can be loaded * DONE (GSBenchMark)
GSBenchMark.Rcheck/GSBenchMark-Ex.timings
| name | user | system | elapsed | |
| GSBenchMarkDatasets | 0.240 | 0.004 | 0.252 | |
| bipolar_GDS2190 | 0.224 | 0.008 | 0.241 | |
| breast_GDS807 | 0.220 | 0.004 | 0.223 | |
| diracpathways | 0.008 | 0.024 | 0.035 | |
| exprsdata | 0.368 | 0.004 | 0.381 | |
| leukemia_GSEA | 0.200 | 0.020 | 0.222 | |
| logexprsdata | 0.356 | 0.024 | 0.377 | |
| marfan_GDS2960 | 0.136 | 0.008 | 0.248 | |
| melanoma_GDS2735 | 0.328 | 0.008 | 0.439 | |
| parkinsons_GDS2519 | 0.596 | 0.028 | 0.643 | |
| phenotypes | 0.356 | 0.008 | 0.363 | |
| prostate_GDS2545_m_nf | 0.284 | 0.000 | 0.293 | |
| prostate_GDS2545_m_p | 0.480 | 0.012 | 0.499 | |
| prostate_GDS2545_p_nf | 0.352 | 0.004 | 0.358 | |
| sarcoma_data | 0.640 | 0.040 | 0.684 | |
| squamous_GDS2520 | 0.236 | 0.004 | 0.238 | |