| Back to Multiple platform build/check report for BioC 3.7 experimental data |
This page was generated on 2018-10-16 14:19:33 -0400 (Tue, 16 Oct 2018).
| Package 92/342 | Hostname | OS / Arch | INSTALL | BUILD | CHECK | BUILD BIN | ||||||
| EGSEAdata 1.8.0 Monther Alhamdoosh
| malbec2 | Linux (Ubuntu 16.04.1 LTS) / x86_64 | OK | OK | [ OK ] |
| Package: EGSEAdata |
| Version: 1.8.0 |
| Command: /home/biocbuild/bbs-3.7-bioc/R/bin/R CMD check --install=check:EGSEAdata.install-out.txt --library=/home/biocbuild/bbs-3.7-bioc/R/library --no-vignettes --timings EGSEAdata_1.8.0.tar.gz |
| StartedAt: 2018-10-16 10:53:02 -0400 (Tue, 16 Oct 2018) |
| EndedAt: 2018-10-16 10:53:54 -0400 (Tue, 16 Oct 2018) |
| EllapsedTime: 51.9 seconds |
| RetCode: 0 |
| Status: OK |
| CheckDir: EGSEAdata.Rcheck |
| Warnings: 0 |
##############################################################################
##############################################################################
###
### Running command:
###
### /home/biocbuild/bbs-3.7-bioc/R/bin/R CMD check --install=check:EGSEAdata.install-out.txt --library=/home/biocbuild/bbs-3.7-bioc/R/library --no-vignettes --timings EGSEAdata_1.8.0.tar.gz
###
##############################################################################
##############################################################################
* using log directory ‘/home/biocbuild/bbs-3.7-data-experiment/meat/EGSEAdata.Rcheck’
* using R version 3.5.1 Patched (2018-07-12 r74967)
* using platform: x86_64-pc-linux-gnu (64-bit)
* using session charset: UTF-8
* using option ‘--no-vignettes’
* checking for file ‘EGSEAdata/DESCRIPTION’ ... OK
* this is package ‘EGSEAdata’ version ‘1.8.0’
* checking package namespace information ... OK
* checking package dependencies ... OK
* checking if this is a source package ... OK
* checking if there is a namespace ... OK
* checking for hidden files and directories ... OK
* checking for portable file names ... OK
* checking for sufficient/correct file permissions ... OK
* checking whether package ‘EGSEAdata’ can be installed ... OK
* checking installed package size ... NOTE
installed size is 66.8Mb
sub-directories of 1Mb or more:
data 66.7Mb
* checking package directory ... OK
* checking DESCRIPTION meta-information ... OK
* checking top-level files ... OK
* checking for left-over files ... OK
* checking index information ... OK
* checking package subdirectories ... OK
* checking R files for non-ASCII characters ... OK
* checking R files for syntax errors ... OK
* checking whether the package can be loaded ... OK
* checking whether the package can be loaded with stated dependencies ... OK
* checking whether the package can be unloaded cleanly ... OK
* checking whether the namespace can be loaded with stated dependencies ... OK
* checking whether the namespace can be unloaded cleanly ... OK
* checking dependencies in R code ... OK
* checking S3 generic/method consistency ... OK
* checking replacement functions ... OK
* checking foreign function calls ... OK
* checking R code for possible problems ... NOTE
egseaData.info: no visible global function definition for ‘data’
egseaData.info: no visible binding for global variable ‘kegg.pathways’
egseaData.info: no visible binding for global variable ‘msigdb’
Undefined global functions or variables:
data kegg.pathways msigdb
Consider adding
importFrom("utils", "data")
to your NAMESPACE file.
* checking Rd files ... OK
* checking Rd metadata ... OK
* checking Rd cross-references ... OK
* checking for missing documentation entries ... OK
* checking for code/documentation mismatches ... OK
* checking Rd \usage sections ... OK
* checking Rd contents ... OK
* checking for unstated dependencies in examples ... OK
* checking contents of ‘data’ directory ... OK
* checking data for non-ASCII characters ... NOTE
Note: found 2307 marked UTF-8 strings
* checking data for ASCII and uncompressed saves ... OK
* checking examples ... OK
* checking PDF version of manual ... OK
* DONE
Status: 3 NOTEs
See
‘/home/biocbuild/bbs-3.7-data-experiment/meat/EGSEAdata.Rcheck/00check.log’
for details.
EGSEAdata.Rcheck/00install.out
############################################################################## ############################################################################## ### ### Running command: ### ### /home/biocbuild/bbs-3.7-bioc/R/bin/R CMD INSTALL EGSEAdata ### ############################################################################## ############################################################################## * installing to library ‘/home/biocbuild/bbs-3.7-bioc/R/library’ * installing *source* package ‘EGSEAdata’ ... ** R ** data ** byte-compile and prepare package for lazy loading ** help *** installing help indices ** building package indices ** testing if installed package can be loaded * DONE (EGSEAdata)
EGSEAdata.Rcheck/EGSEAdata-Ex.timings
| name | user | system | elapsed | |
| egsea.data | 2.828 | 0.084 | 3.312 | |