| Back to Multiple platform build/check report for BioC 3.7 experimental data | 
This page was generated on 2018-10-16 14:18:22 -0400 (Tue, 16 Oct 2018).
| Package 77/342 | Hostname | OS / Arch | INSTALL | BUILD | CHECK | BUILD BIN | ||||||
| DeSousa2013 1.16.0 Xin Wang 
  | malbec2 | Linux (Ubuntu 16.04.1 LTS) / x86_64 | OK | [ OK ] | OK | 
| Package: DeSousa2013 | 
| Version: 1.16.0 | 
| Command: /home/biocbuild/bbs-3.7-bioc/R/bin/R CMD build --keep-empty-dirs --no-resave-data DeSousa2013 | 
| StartedAt: 2018-10-16 09:32:33 -0400 (Tue, 16 Oct 2018) | 
| EndedAt: 2018-10-16 09:33:26 -0400 (Tue, 16 Oct 2018) | 
| EllapsedTime: 52.9 seconds | 
| RetCode: 0 | 
| Status: OK | 
| PackageFile: DeSousa2013_1.16.0.tar.gz | 
| PackageFileSize: 44.65 MiB | 
############################################################################## ############################################################################## ### ### Running command: ### ### /home/biocbuild/bbs-3.7-bioc/R/bin/R CMD build --keep-empty-dirs --no-resave-data DeSousa2013 ### ############################################################################## ############################################################################## * checking for file ‘DeSousa2013/DESCRIPTION’ ... OK * preparing ‘DeSousa2013’: * checking DESCRIPTION meta-information ... OK * installing the package to build vignettes * creating vignettes ... OK * checking for LF line-endings in source and make files and shell scripts * checking for empty or unneeded directories * looking to see if a ‘data/datalist’ file should be added * building ‘DeSousa2013_1.16.0.tar.gz’