| Back to Multiple platform build/check report for BioC 3.7 experimental data |
This page was generated on 2018-10-16 14:18:16 -0400 (Tue, 16 Oct 2018).
| Package 84/342 | Hostname | OS / Arch | INSTALL | BUILD | CHECK | BUILD BIN | ||||||
| DREAM4 1.16.0 Paul Shannon
| malbec2 | Linux (Ubuntu 16.04.1 LTS) / x86_64 | [ OK ] | OK | WARNINGS |
| Package: DREAM4 |
| Version: 1.16.0 |
| Command: /home/biocbuild/bbs-3.7-bioc/R/bin/R CMD INSTALL DREAM4 |
| StartedAt: 2018-10-16 09:05:15 -0400 (Tue, 16 Oct 2018) |
| EndedAt: 2018-10-16 09:05:29 -0400 (Tue, 16 Oct 2018) |
| EllapsedTime: 13.7 seconds |
| RetCode: 0 |
| Status: OK |
############################################################################## ############################################################################## ### ### Running command: ### ### /home/biocbuild/bbs-3.7-bioc/R/bin/R CMD INSTALL DREAM4 ### ############################################################################## ############################################################################## * installing to library ‘/home/biocbuild/bbs-3.7-bioc/R/library’ * installing *source* package ‘DREAM4’ ... ** data ** inst ** help *** installing help indices ** building package indices ** installing vignettes ‘DREAM4.Rnw’ using ‘UTF-8’ ** testing if installed package can be loaded * DONE (DREAM4)