| Back to Multiple platform build/check report for BioC 3.7 experimental data |
This page was generated on 2018-10-16 14:18:54 -0400 (Tue, 16 Oct 2018).
| Package 38/342 | Hostname | OS / Arch | INSTALL | BUILD | CHECK | BUILD BIN | ||||||
| CardinalWorkflows 1.12.0 Kylie A. Bemis
| malbec2 | Linux (Ubuntu 16.04.1 LTS) / x86_64 | [ OK ] | OK | OK |
| Package: CardinalWorkflows |
| Version: 1.12.0 |
| Command: /home/biocbuild/bbs-3.7-bioc/R/bin/R CMD INSTALL CardinalWorkflows |
| StartedAt: 2018-10-16 09:03:24 -0400 (Tue, 16 Oct 2018) |
| EndedAt: 2018-10-16 09:04:11 -0400 (Tue, 16 Oct 2018) |
| EllapsedTime: 46.5 seconds |
| RetCode: 0 |
| Status: OK |
############################################################################## ############################################################################## ### ### Running command: ### ### /home/biocbuild/bbs-3.7-bioc/R/bin/R CMD INSTALL CardinalWorkflows ### ############################################################################## ############################################################################## * installing to library ‘/home/biocbuild/bbs-3.7-bioc/R/library’ * installing *source* package ‘CardinalWorkflows’ ... ** data ** help *** installing help indices ** building package indices ** installing vignettes ** testing if installed package can be loaded * DONE (CardinalWorkflows)