| Back to Multiple platform build/check report for BioC 3.7 experimental data |
This page was generated on 2018-10-16 14:19:31 -0400 (Tue, 16 Oct 2018).
| Package 62/342 | Hostname | OS / Arch | INSTALL | BUILD | CHECK | BUILD BIN | ||||||
| CONFESSdata 1.8.0 Diana LOW
| malbec2 | Linux (Ubuntu 16.04.1 LTS) / x86_64 | OK | [ OK ] | OK |
| Package: CONFESSdata |
| Version: 1.8.0 |
| Command: /home/biocbuild/bbs-3.7-bioc/R/bin/R CMD build --keep-empty-dirs --no-resave-data CONFESSdata |
| StartedAt: 2018-10-16 09:59:19 -0400 (Tue, 16 Oct 2018) |
| EndedAt: 2018-10-16 09:59:55 -0400 (Tue, 16 Oct 2018) |
| EllapsedTime: 36.1 seconds |
| RetCode: 0 |
| Status: OK |
| PackageFile: CONFESSdata_1.8.0.tar.gz |
| PackageFileSize: 9.832 MiB |
############################################################################## ############################################################################## ### ### Running command: ### ### /home/biocbuild/bbs-3.7-bioc/R/bin/R CMD build --keep-empty-dirs --no-resave-data CONFESSdata ### ############################################################################## ############################################################################## * checking for file ‘CONFESSdata/DESCRIPTION’ ... OK * preparing ‘CONFESSdata’: * checking DESCRIPTION meta-information ... OK * checking for LF line-endings in source and make files and shell scripts * checking for empty or unneeded directories * looking to see if a ‘data/datalist’ file should be added * building ‘CONFESSdata_1.8.0.tar.gz’