| Back to Multiple platform build/check report for BioC 3.7 experimental data |
This page was generated on 2018-10-16 14:19:51 -0400 (Tue, 16 Oct 2018).
| Package 27/342 | Hostname | OS / Arch | INSTALL | BUILD | CHECK | BUILD BIN | ||||||
| BloodCancerMultiOmics2017 1.0.2 Malgorzata Oles
| malbec2 | Linux (Ubuntu 16.04.1 LTS) / x86_64 | OK | [ OK ] | OK |
| Package: BloodCancerMultiOmics2017 |
| Version: 1.0.2 |
| Command: /home/biocbuild/bbs-3.7-bioc/R/bin/R CMD build --keep-empty-dirs --no-resave-data BloodCancerMultiOmics2017 |
| StartedAt: 2018-10-16 10:05:08 -0400 (Tue, 16 Oct 2018) |
| EndedAt: 2018-10-16 10:36:34 -0400 (Tue, 16 Oct 2018) |
| EllapsedTime: 1886.5 seconds |
| RetCode: 0 |
| Status: OK |
| PackageFile: BloodCancerMultiOmics2017_1.0.2.tar.gz |
| PackageFileSize: 53.99 MiB |
##############################################################################
##############################################################################
###
### Running command:
###
### /home/biocbuild/bbs-3.7-bioc/R/bin/R CMD build --keep-empty-dirs --no-resave-data BloodCancerMultiOmics2017
###
##############################################################################
##############################################################################
* checking for file ‘BloodCancerMultiOmics2017/DESCRIPTION’ ... OK
* preparing ‘BloodCancerMultiOmics2017’:
* checking DESCRIPTION meta-information ... OK
* installing the package to build vignettes
* creating vignettes ... OK
Warning: ‘inst/doc’ file
‘BloodCancerMultiOmics2017-dataOverview.R’
ignored as vignettes have been rebuilt.
Run R CMD build with --no-build-vignettes to prevent rebuilding.
* checking for LF line-endings in source and make files and shell scripts
* checking for empty or unneeded directories
* looking to see if a ‘data/datalist’ file should be added
* building ‘BloodCancerMultiOmics2017_1.0.2.tar.gz’