| Back to Multiple platform build/check report for BioC 3.7 experimental data |
This page was generated on 2018-10-16 14:19:26 -0400 (Tue, 16 Oct 2018).
| Package 14/342 | Hostname | OS / Arch | INSTALL | BUILD | CHECK | BUILD BIN | ||||||
| AneuFinderData 1.8.0 Aaron Taudt
| malbec2 | Linux (Ubuntu 16.04.1 LTS) / x86_64 | OK | [ OK ] | WARNINGS |
| Package: AneuFinderData |
| Version: 1.8.0 |
| Command: /home/biocbuild/bbs-3.7-bioc/R/bin/R CMD build --keep-empty-dirs --no-resave-data AneuFinderData |
| StartedAt: 2018-10-16 09:59:10 -0400 (Tue, 16 Oct 2018) |
| EndedAt: 2018-10-16 09:59:17 -0400 (Tue, 16 Oct 2018) |
| EllapsedTime: 7.0 seconds |
| RetCode: 0 |
| Status: OK |
| PackageFile: AneuFinderData_1.8.0.tar.gz |
| PackageFileSize: 57.02 MiB |
############################################################################## ############################################################################## ### ### Running command: ### ### /home/biocbuild/bbs-3.7-bioc/R/bin/R CMD build --keep-empty-dirs --no-resave-data AneuFinderData ### ############################################################################## ############################################################################## * checking for file ‘AneuFinderData/DESCRIPTION’ ... OK * preparing ‘AneuFinderData’: * checking DESCRIPTION meta-information ... OK * checking for LF line-endings in source and make files and shell scripts * checking for empty or unneeded directories * building ‘AneuFinderData_1.8.0.tar.gz’