| Back to Multiple platform build/check report for BioC 3.7 experimental data |
This page was generated on 2018-10-16 14:18:39 -0400 (Tue, 16 Oct 2018).
| Package 8/342 | Hostname | OS / Arch | INSTALL | BUILD | CHECK | BUILD BIN | ||||||
| Affymoe4302Expr 1.18.0 Zhicheng Ji
| malbec2 | Linux (Ubuntu 16.04.1 LTS) / x86_64 | [ OK ] | OK | OK |
| Package: Affymoe4302Expr |
| Version: 1.18.0 |
| Command: /home/biocbuild/bbs-3.7-bioc/R/bin/R CMD INSTALL Affymoe4302Expr |
| StartedAt: 2018-10-16 09:15:36 -0400 (Tue, 16 Oct 2018) |
| EndedAt: 2018-10-16 09:15:42 -0400 (Tue, 16 Oct 2018) |
| EllapsedTime: 6.1 seconds |
| RetCode: 0 |
| Status: OK |
############################################################################## ############################################################################## ### ### Running command: ### ### /home/biocbuild/bbs-3.7-bioc/R/bin/R CMD INSTALL Affymoe4302Expr ### ############################################################################## ############################################################################## * installing to library ‘/home/biocbuild/bbs-3.7-bioc/R/library’ * installing *source* package ‘Affymoe4302Expr’ ... ** data ** inst ** help *** installing help indices ** building package indices ** testing if installed package can be loaded * DONE (Affymoe4302Expr)