| Back to Multiple platform build/check report for BioC 3.7 experimental data |
This page was generated on 2018-10-16 14:16:36 -0400 (Tue, 16 Oct 2018).
| Package 11/342 | Hostname | OS / Arch | INSTALL | BUILD | CHECK | BUILD BIN | ||||||
| ALLMLL 1.20.0 B. M. Bolstad
| malbec2 | Linux (Ubuntu 16.04.1 LTS) / x86_64 | OK | [ OK ] | OK |
| Package: ALLMLL |
| Version: 1.20.0 |
| Command: /home/biocbuild/bbs-3.7-bioc/R/bin/R CMD build --keep-empty-dirs --no-resave-data ALLMLL |
| StartedAt: 2018-10-16 09:19:56 -0400 (Tue, 16 Oct 2018) |
| EndedAt: 2018-10-16 09:20:01 -0400 (Tue, 16 Oct 2018) |
| EllapsedTime: 5.0 seconds |
| RetCode: 0 |
| Status: OK |
| PackageFile: ALLMLL_1.20.0.tar.gz |
| PackageFileSize: 25.62 MiB |
############################################################################## ############################################################################## ### ### Running command: ### ### /home/biocbuild/bbs-3.7-bioc/R/bin/R CMD build --keep-empty-dirs --no-resave-data ALLMLL ### ############################################################################## ############################################################################## * checking for file ‘ALLMLL/DESCRIPTION’ ... OK * preparing ‘ALLMLL’: * checking DESCRIPTION meta-information ... OK * checking for LF line-endings in source and make files and shell scripts * checking for empty or unneeded directories * looking to see if a ‘data/datalist’ file should be added * building ‘ALLMLL_1.20.0.tar.gz’