| Back to Multiple platform build/check report for BioC 3.7 |
|
This page was generated on 2018-10-17 08:58:36 -0400 (Wed, 17 Oct 2018).
| Package 1559/1561 | Hostname | OS / Arch | INSTALL | BUILD | CHECK | BUILD BIN | ||||||
| zFPKM 1.2.0 Ron Ammar
| malbec2 | Linux (Ubuntu 16.04.1 LTS) / x86_64 | OK | OK | OK | |||||||
| tokay2 | Windows Server 2012 R2 Standard / x64 | OK | OK | OK | OK | |||||||
| merida2 | OS X 10.11.6 El Capitan / x86_64 | OK | OK | OK | [ OK ] |
| Package: zFPKM |
| Version: 1.2.0 |
| Command: rm -rf zFPKM.buildbin-libdir && mkdir zFPKM.buildbin-libdir && /Users/biocbuild/BBS/utils/build-universal.sh zFPKM_1.2.0.tar.gz /Library/Frameworks/R.framework/Versions/Current/Resources/bin/R zFPKM.buildbin-libdir |
| StartedAt: 2018-10-17 02:20:29 -0400 (Wed, 17 Oct 2018) |
| EndedAt: 2018-10-17 02:21:35 -0400 (Wed, 17 Oct 2018) |
| EllapsedTime: 65.9 seconds |
| RetCode: 0 |
| Status: OK |
| PackageFile: zFPKM_1.2.0.tgz |
| PackageFileSize: 220.4 KiB |
############################################################################## ############################################################################## ### ### Running command: ### ### rm -rf zFPKM.buildbin-libdir && mkdir zFPKM.buildbin-libdir && /Users/biocbuild/BBS/utils/build-universal.sh zFPKM_1.2.0.tar.gz /Library/Frameworks/R.framework/Versions/Current/Resources/bin/R zFPKM.buildbin-libdir ### ############################################################################## ############################################################################## >>>>>>> >>>>>>> INSTALLATION WITH 'R CMD INSTALL --preclean --no-multiarch --library=zFPKM.buildbin-libdir zFPKM_1.2.0.tar.gz' >>>>>>> * installing *source* package ‘zFPKM’ ... ** R ** inst ** byte-compile and prepare package for lazy loading ** help *** installing help indices ** building package indices ** installing vignettes ** testing if installed package can be loaded * DONE (zFPKM)