| Back to Multiple platform build/check report for BioC 3.7 |
|
This page was generated on 2018-10-17 08:55:10 -0400 (Wed, 17 Oct 2018).
| Package 1530/1561 | Hostname | OS / Arch | INSTALL | BUILD | CHECK | BUILD BIN | ||||||
| variancePartition 1.10.4 Gabriel E. Hoffman
| malbec2 | Linux (Ubuntu 16.04.1 LTS) / x86_64 | OK | OK | OK | |||||||
| tokay2 | Windows Server 2012 R2 Standard / x64 | OK | OK | OK | OK | |||||||
| merida2 | OS X 10.11.6 El Capitan / x86_64 | OK | OK | [ OK ] | OK |
| Package: variancePartition |
| Version: 1.10.4 |
| Command: /Library/Frameworks/R.framework/Versions/Current/Resources/bin/R CMD check --install=check:variancePartition.install-out.txt --library=/Library/Frameworks/R.framework/Versions/Current/Resources/library --no-vignettes --timings variancePartition_1.10.4.tar.gz |
| StartedAt: 2018-10-17 00:35:27 -0400 (Wed, 17 Oct 2018) |
| EndedAt: 2018-10-17 00:42:53 -0400 (Wed, 17 Oct 2018) |
| EllapsedTime: 446.1 seconds |
| RetCode: 0 |
| Status: OK |
| CheckDir: variancePartition.Rcheck |
| Warnings: 0 |
##############################################################################
##############################################################################
###
### Running command:
###
### /Library/Frameworks/R.framework/Versions/Current/Resources/bin/R CMD check --install=check:variancePartition.install-out.txt --library=/Library/Frameworks/R.framework/Versions/Current/Resources/library --no-vignettes --timings variancePartition_1.10.4.tar.gz
###
##############################################################################
##############################################################################
* using log directory ‘/Users/biocbuild/bbs-3.7-bioc/meat/variancePartition.Rcheck’
* using R version 3.5.1 Patched (2018-07-12 r74967)
* using platform: x86_64-apple-darwin15.6.0 (64-bit)
* using session charset: UTF-8
* using option ‘--no-vignettes’
* checking for file ‘variancePartition/DESCRIPTION’ ... OK
* checking extension type ... Package
* this is package ‘variancePartition’ version ‘1.10.4’
* checking package namespace information ... OK
* checking package dependencies ... OK
* checking if this is a source package ... OK
* checking if there is a namespace ... OK
* checking for hidden files and directories ... OK
* checking for portable file names ... OK
* checking for sufficient/correct file permissions ... OK
* checking whether package ‘variancePartition’ can be installed ... OK
* checking installed package size ... OK
* checking package directory ... OK
* checking ‘build’ directory ... OK
* checking DESCRIPTION meta-information ... OK
* checking top-level files ... OK
* checking for left-over files ... OK
* checking index information ... OK
* checking package subdirectories ... OK
* checking R files for non-ASCII characters ... OK
* checking R files for syntax errors ... OK
* checking whether the package can be loaded ... OK
* checking whether the package can be loaded with stated dependencies ... OK
* checking whether the package can be unloaded cleanly ... OK
* checking whether the namespace can be loaded with stated dependencies ... OK
* checking whether the namespace can be unloaded cleanly ... OK
* checking dependencies in R code ... OK
* checking S3 generic/method consistency ... OK
* checking replacement functions ... OK
* checking foreign function calls ... OK
* checking R code for possible problems ... OK
* checking Rd files ... OK
* checking Rd metadata ... OK
* checking Rd cross-references ... OK
* checking for missing documentation entries ... OK
* checking for code/documentation mismatches ... OK
* checking Rd \usage sections ... OK
* checking Rd contents ... OK
* checking for unstated dependencies in examples ... OK
* checking contents of ‘data’ directory ... OK
* checking data for non-ASCII characters ... OK
* checking data for ASCII and uncompressed saves ... OK
* checking sizes of PDF files under ‘inst/doc’ ... OK
* checking files in ‘vignettes’ ... OK
* checking examples ... OK
Examples with CPU or elapsed time > 5s
user system elapsed
fitVarPartModel-method 31.220 3.304 53.545
extractVarPart 15.158 1.343 34.298
residuals-VarParFitList-method 5.378 0.777 21.869
getVarianceComponents 4.908 0.749 19.396
varPartConfInf 4.878 0.105 30.485
fitExtractVarPartModel-method 1.260 0.134 27.949
plotCompareP-method 1.258 0.062 21.358
plotPercentBars 1.179 0.060 20.244
plotCorrStructure 1.055 0.084 15.582
plotVarPart-method 0.935 0.172 20.369
sortCols-method 0.724 0.054 19.483
dream-method 0.554 0.040 15.727
* checking for unstated dependencies in ‘tests’ ... OK
* checking tests ...
Running ‘runTests.R’
OK
* checking for unstated dependencies in vignettes ... OK
* checking package vignettes in ‘inst/doc’ ... OK
* checking running R code from vignettes ... SKIPPED
* checking re-building of vignette outputs ... SKIPPED
* checking PDF version of manual ... OK
* DONE
Status: OK
variancePartition.Rcheck/00install.out
############################################################################## ############################################################################## ### ### Running command: ### ### /Library/Frameworks/R.framework/Versions/Current/Resources/bin/R CMD INSTALL variancePartition ### ############################################################################## ############################################################################## * installing to library ‘/Library/Frameworks/R.framework/Versions/3.5/Resources/library’ * installing *source* package ‘variancePartition’ ... ** R ** data ** inst ** byte-compile and prepare package for lazy loading Creating a generic function for ‘eBayes’ from package ‘limma’ in package ‘variancePartition’ ** help *** installing help indices ** building package indices ** installing vignettes ** testing if installed package can be loaded * DONE (variancePartition)
variancePartition.Rcheck/tests/runTests.Rout
R version 3.5.1 Patched (2018-07-12 r74967) -- "Feather Spray"
Copyright (C) 2018 The R Foundation for Statistical Computing
Platform: x86_64-apple-darwin15.6.0 (64-bit)
R is free software and comes with ABSOLUTELY NO WARRANTY.
You are welcome to redistribute it under certain conditions.
Type 'license()' or 'licence()' for distribution details.
R is a collaborative project with many contributors.
Type 'contributors()' for more information and
'citation()' on how to cite R or R packages in publications.
Type 'demo()' for some demos, 'help()' for on-line help, or
'help.start()' for an HTML browser interface to help.
Type 'q()' to quit R.
> BiocGenerics:::testPackage("variancePartition")
Attaching package: 'BiocGenerics'
The following objects are masked from 'package:parallel':
clusterApply, clusterApplyLB, clusterCall, clusterEvalQ,
clusterExport, clusterMap, parApply, parCapply, parLapply,
parLapplyLB, parRapply, parSapply, parSapplyLB
The following object is masked from 'package:limma':
plotMA
The following objects are masked from 'package:stats':
IQR, mad, sd, var, xtabs
The following objects are masked from 'package:base':
Filter, Find, Map, Position, Reduce, anyDuplicated, append,
as.data.frame, basename, cbind, colMeans, colSums, colnames,
dirname, do.call, duplicated, eval, evalq, get, grep, grepl,
intersect, is.unsorted, lapply, lengths, mapply, match, mget,
order, paste, pmax, pmax.int, pmin, pmin.int, rank, rbind,
rowMeans, rowSums, rownames, sapply, setdiff, sort, table, tapply,
union, unique, unsplit, which, which.max, which.min
Welcome to Bioconductor
Vignettes contain introductory material; view with
'browseVignettes()'. To cite Bioconductor, see
'citation("Biobase")', and for packages 'citation("pkgname")'.
Projected run time: ˜ 0.5 min
Loading required package: Matrix
Attaching package: 'lmerTest'
The following object is masked from 'package:lme4':
lmer
The following object is masked from 'package:stats':
step
Projected run time: ˜ 0.2 min
Projected run time: ˜ 0.2 min
RUNIT TEST PROTOCOL -- Wed Oct 17 00:42:44 2018
***********************************************
Number of test functions: 1
Number of errors: 0
Number of failures: 0
1 Test Suite :
variancePartition RUnit Tests - 1 test function, 0 errors, 0 failures
Number of test functions: 1
Number of errors: 0
Number of failures: 0
Warning message:
executing %dopar% sequentially: no parallel backend registered
>
> proc.time()
user system elapsed
47.374 0.433 48.395
variancePartition.Rcheck/variancePartition-Ex.timings
| name | user | system | elapsed | |
| ESS-method | 0.369 | 0.006 | 0.379 | |
| as.data.frame-varPartResults-method | 0.766 | 0.046 | 0.813 | |
| as.matrix-varPartResults-method | 0.638 | 0.007 | 0.663 | |
| calcVarPart-method | 0.105 | 0.005 | 0.112 | |
| canCorPairs | 0.085 | 0.006 | 0.092 | |
| colinearityScore | 0.550 | 0.010 | 0.567 | |
| dream-method | 0.554 | 0.040 | 15.727 | |
| extractVarPart | 15.158 | 1.343 | 34.298 | |
| fitExtractVarPartModel-method | 1.260 | 0.134 | 27.949 | |
| fitVarPartModel-method | 31.220 | 3.304 | 53.545 | |
| getContrast-method | 1.661 | 0.102 | 1.773 | |
| getVarianceComponents | 4.908 | 0.749 | 19.396 | |
| ggColorHue | 0.002 | 0.000 | 0.001 | |
| plotCompareP-method | 1.258 | 0.062 | 21.358 | |
| plotCorrMatrix | 0.109 | 0.010 | 0.121 | |
| plotCorrStructure | 1.055 | 0.084 | 15.582 | |
| plotPercentBars | 1.179 | 0.060 | 20.244 | |
| plotStratify | 1.234 | 0.008 | 1.260 | |
| plotStratifyBy | 1.284 | 0.093 | 1.392 | |
| plotVarPart-method | 0.935 | 0.172 | 20.369 | |
| residuals-VarParFitList-method | 5.378 | 0.777 | 21.869 | |
| sortCols-method | 0.724 | 0.054 | 19.483 | |
| varPartConfInf | 4.878 | 0.105 | 30.485 | |