| Back to Multiple platform build/check report for BioC 3.7 |
|
This page was generated on 2018-10-17 08:41:27 -0400 (Wed, 17 Oct 2018).
| Package 1498/1561 | Hostname | OS / Arch | INSTALL | BUILD | CHECK | BUILD BIN | ||||||
| transcriptR 1.8.0 Armen R. Karapetyan
| malbec2 | Linux (Ubuntu 16.04.1 LTS) / x86_64 | OK | OK | OK | |||||||
| tokay2 | Windows Server 2012 R2 Standard / x64 | OK | OK | WARNINGS | [ OK ] | |||||||
| merida2 | OS X 10.11.6 El Capitan / x86_64 | OK | OK | OK | OK |
| Package: transcriptR |
| Version: 1.8.0 |
| Command: rm -rf transcriptR.buildbin-libdir && mkdir transcriptR.buildbin-libdir && C:\Users\biocbuild\bbs-3.7-bioc\R\bin\R.exe CMD INSTALL --merge-multiarch --build --library=transcriptR.buildbin-libdir transcriptR_1.8.0.tar.gz |
| StartedAt: 2018-10-17 07:05:11 -0400 (Wed, 17 Oct 2018) |
| EndedAt: 2018-10-17 07:06:08 -0400 (Wed, 17 Oct 2018) |
| EllapsedTime: 56.4 seconds |
| RetCode: 0 |
| Status: OK |
| PackageFile: transcriptR_1.8.0.zip |
| PackageFileSize: 2.877 MiB |
##############################################################################
##############################################################################
###
### Running command:
###
### rm -rf transcriptR.buildbin-libdir && mkdir transcriptR.buildbin-libdir && C:\Users\biocbuild\bbs-3.7-bioc\R\bin\R.exe CMD INSTALL --merge-multiarch --build --library=transcriptR.buildbin-libdir transcriptR_1.8.0.tar.gz
###
##############################################################################
##############################################################################
install for i386
* installing *source* package 'transcriptR' ...
** R
** data
** inst
** byte-compile and prepare package for lazy loading
** help
*** installing help indices
converting help for package 'transcriptR'
finding HTML links ... done
ChipDataSet-class html
Rd warning: C:/Users/biocbuild/bbs-3.7-bioc/tmpdir/RtmpsJX0Pa/R.INSTALL17403fef39d8/transcriptR/man/ChipDataSet-class.Rd:15: file link 'GRanges' in package 'GenomicRanges' does not exist and so has been treated as a topic
Rd warning: C:/Users/biocbuild/bbs-3.7-bioc/tmpdir/RtmpsJX0Pa/R.INSTALL17403fef39d8/transcriptR/man/ChipDataSet-class.Rd:17: file link 'GRanges' in package 'GenomicRanges' does not exist and so has been treated as a topic
TranscriptionDataSet-class html
Rd warning: C:/Users/biocbuild/bbs-3.7-bioc/tmpdir/RtmpsJX0Pa/R.INSTALL17403fef39d8/transcriptR/man/TranscriptionDataSet-class.Rd:18: file link 'GRanges' in package 'GenomicRanges' does not exist and so has been treated as a topic
Rd warning: C:/Users/biocbuild/bbs-3.7-bioc/tmpdir/RtmpsJX0Pa/R.INSTALL17403fef39d8/transcriptR/man/TranscriptionDataSet-class.Rd:23: file link 'GRanges' in package 'GenomicRanges' does not exist and so has been treated as a topic
Rd warning: C:/Users/biocbuild/bbs-3.7-bioc/tmpdir/RtmpsJX0Pa/R.INSTALL17403fef39d8/transcriptR/man/TranscriptionDataSet-class.Rd:26: file link 'RleList' in package 'IRanges' does not exist and so has been treated as a topic
Rd warning: C:/Users/biocbuild/bbs-3.7-bioc/tmpdir/RtmpsJX0Pa/R.INSTALL17403fef39d8/transcriptR/man/TranscriptionDataSet-class.Rd:29: file link 'RleList' in package 'IRanges' does not exist and so has been treated as a topic
Rd warning: C:/Users/biocbuild/bbs-3.7-bioc/tmpdir/RtmpsJX0Pa/R.INSTALL17403fef39d8/transcriptR/man/TranscriptionDataSet-class.Rd:43: file link 'GRanges' in package 'GenomicRanges' does not exist and so has been treated as a topic
addFeature-methods html
annot html
finding level-2 HTML links ... done
annotateTranscripts-methods html
Rd warning: C:/Users/biocbuild/bbs-3.7-bioc/tmpdir/RtmpsJX0Pa/R.INSTALL17403fef39d8/transcriptR/man/annotateTranscripts-methods.Rd:17: file link 'GRanges' in package 'GenomicRanges' does not exist and so has been treated as a topic
Rd warning: C:/Users/biocbuild/bbs-3.7-bioc/tmpdir/RtmpsJX0Pa/R.INSTALL17403fef39d8/transcriptR/man/annotateTranscripts-methods.Rd:24: file link 'GRanges' in package 'GenomicRanges' does not exist and so has been treated as a topic
breakTranscriptsByPeaks-methods html
Rd warning: C:/Users/biocbuild/bbs-3.7-bioc/tmpdir/RtmpsJX0Pa/R.INSTALL17403fef39d8/transcriptR/man/breakTranscriptsByPeaks-methods.Rd:25: file link 'GRanges' in package 'GenomicRanges' does not exist and so has been treated as a topic
cds html
constructCDS html
Rd warning: C:/Users/biocbuild/bbs-3.7-bioc/tmpdir/RtmpsJX0Pa/R.INSTALL17403fef39d8/transcriptR/man/constructCDS.Rd:18: file link 'GRanges' in package 'GenomicRanges' does not exist and so has been treated as a topic
Rd warning: C:/Users/biocbuild/bbs-3.7-bioc/tmpdir/RtmpsJX0Pa/R.INSTALL17403fef39d8/transcriptR/man/constructCDS.Rd:22: file link 'TxDb' in package 'GenomicFeatures' does not exist and so has been treated as a topic
Rd warning: C:/Users/biocbuild/bbs-3.7-bioc/tmpdir/RtmpsJX0Pa/R.INSTALL17403fef39d8/transcriptR/man/constructCDS.Rd:44: file link 'ScanBamParam' in package 'Rsamtools' does not exist and so has been treated as a topic
Rd warning: C:/Users/biocbuild/bbs-3.7-bioc/tmpdir/RtmpsJX0Pa/R.INSTALL17403fef39d8/transcriptR/man/constructCDS.Rd:65: file link 'GRanges' in package 'GenomicRanges' does not exist and so has been treated as a topic
constructTDS html
Rd warning: C:/Users/biocbuild/bbs-3.7-bioc/tmpdir/RtmpsJX0Pa/R.INSTALL17403fef39d8/transcriptR/man/constructTDS.Rd:13: file link 'GRanges' in package 'GenomicRanges' does not exist and so has been treated as a topic
Rd warning: C:/Users/biocbuild/bbs-3.7-bioc/tmpdir/RtmpsJX0Pa/R.INSTALL17403fef39d8/transcriptR/man/constructTDS.Rd:29: file link 'ScanBamParam' in package 'Rsamtools' does not exist and so has been treated as a topic
Rd warning: C:/Users/biocbuild/bbs-3.7-bioc/tmpdir/RtmpsJX0Pa/R.INSTALL17403fef39d8/transcriptR/man/constructTDS.Rd:49: file link 'coverage' in package 'IRanges' does not exist and so has been treated as a topic
detectTranscripts-methods html
Rd warning: C:/Users/biocbuild/bbs-3.7-bioc/tmpdir/RtmpsJX0Pa/R.INSTALL17403fef39d8/transcriptR/man/detectTranscripts-methods.Rd:42: file link 'GRanges' in package 'GenomicRanges' does not exist and so has been treated as a topic
Rd warning: C:/Users/biocbuild/bbs-3.7-bioc/tmpdir/RtmpsJX0Pa/R.INSTALL17403fef39d8/transcriptR/man/detectTranscripts-methods.Rd:47: file link 'GRanges' in package 'GenomicRanges' does not exist and so has been treated as a topic
estimateBackground-methods html
estimateGapDistance-methods html
Rd warning: C:/Users/biocbuild/bbs-3.7-bioc/tmpdir/RtmpsJX0Pa/R.INSTALL17403fef39d8/transcriptR/man/estimateGapDistance-methods.Rd:20: file link 'GRanges' in package 'GenomicRanges' does not exist and so has been treated as a topic
exportCoverage-methods html
getConfusionMatrix-methods html
getGenomicAnnot-methods html
getPeaks-methods html
Rd warning: C:/Users/biocbuild/bbs-3.7-bioc/tmpdir/RtmpsJX0Pa/R.INSTALL17403fef39d8/transcriptR/man/getPeaks-methods.Rd:17: file link 'GRanges' in package 'GenomicRanges' does not exist and so has been treated as a topic
getPredictorSignificance-methods html
getProbTreshold-methods html
getQuadProb-methods html
getTestedGapDistances-methods html
getTranscripts-methods html
Rd warning: C:/Users/biocbuild/bbs-3.7-bioc/tmpdir/RtmpsJX0Pa/R.INSTALL17403fef39d8/transcriptR/man/getTranscripts-methods.Rd:26: file link 'GRanges' in package 'GenomicRanges' does not exist and so has been treated as a topic
peaksToBed-methods html
plotErrorRate-methods html
plotFeatures-methods html
plotGenomicAnnot-methods html
plotROC-methods html
predictStrand-methods html
predictTssOverlap-methods html
show html
tds html
transcriptsToBed-methods html
** building package indices
** installing vignettes
** testing if installed package can be loaded
In R CMD INSTALL
install for x64
* installing *source* package 'transcriptR' ...
** testing if installed package can be loaded
* MD5 sums
packaged installation of 'transcriptR' as transcriptR_1.8.0.zip
* DONE (transcriptR)
In R CMD INSTALL
In R CMD INSTALL