| Back to Multiple platform build/check report for BioC 3.7 |
|
This page was generated on 2018-10-17 08:38:07 -0400 (Wed, 17 Oct 2018).
| Package 1496/1561 | Hostname | OS / Arch | INSTALL | BUILD | CHECK | BUILD BIN | ||||||
| trackViewer 1.16.1 Jianhong Ou
| malbec2 | Linux (Ubuntu 16.04.1 LTS) / x86_64 | OK | OK | OK | |||||||
| tokay2 | Windows Server 2012 R2 Standard / x64 | OK | OK | OK | [ OK ] | |||||||
| merida2 | OS X 10.11.6 El Capitan / x86_64 | OK | OK | OK | OK |
| Package: trackViewer |
| Version: 1.16.1 |
| Command: rm -rf trackViewer.buildbin-libdir && mkdir trackViewer.buildbin-libdir && C:\Users\biocbuild\bbs-3.7-bioc\R\bin\R.exe CMD INSTALL --merge-multiarch --build --library=trackViewer.buildbin-libdir trackViewer_1.16.1.tar.gz |
| StartedAt: 2018-10-17 07:05:07 -0400 (Wed, 17 Oct 2018) |
| EndedAt: 2018-10-17 07:06:00 -0400 (Wed, 17 Oct 2018) |
| EllapsedTime: 52.5 seconds |
| RetCode: 0 |
| Status: OK |
| PackageFile: trackViewer_1.16.1.zip |
| PackageFileSize: 1.831 MiB |
##############################################################################
##############################################################################
###
### Running command:
###
### rm -rf trackViewer.buildbin-libdir && mkdir trackViewer.buildbin-libdir && C:\Users\biocbuild\bbs-3.7-bioc\R\bin\R.exe CMD INSTALL --merge-multiarch --build --library=trackViewer.buildbin-libdir trackViewer_1.16.1.tar.gz
###
##############################################################################
##############################################################################
install for i386
* installing *source* package 'trackViewer' ...
** R
** inst
** byte-compile and prepare package for lazy loading
** help
*** installing help indices
converting help for package 'trackViewer'
finding HTML links ... done
GRoperator html
addArrowMark html
addGuideLine html
browseTracks html
coverageGR html
dandelion.plot html
geneModelFromTxdb html
geneTrack html
getCurTrackViewport html
getLocation html
gieStain html
gridPlot html
ideogramPlot html
importBam html
importData html
importScore html
loadIdeogram html
lolliplot html
optimizeStyle html
parse2GRanges html
parseWIG html
plotGInteractions html
plotGRanges html
plotIdeo html
plotOneIdeo html
pos-class html
trackList-class html
trackStyle-class html
trackViewer-package html
trackViewerStyle-class html
viewGene html
viewTracks html
xscale-class html
yaxisStyle-class html
** building package indices
** installing vignettes
** testing if installed package can be loaded
In R CMD INSTALL
install for x64
* installing *source* package 'trackViewer' ...
** testing if installed package can be loaded
* MD5 sums
packaged installation of 'trackViewer' as trackViewer_1.16.1.zip
* DONE (trackViewer)
In R CMD INSTALL
In R CMD INSTALL